BEGIN:VCALENDAR
VERSION:2.0
PRODID:-//Instituto del Asfalto de Guatemala - ECPv6.15.11//NONSGML v1.0//EN
CALSCALE:GREGORIAN
METHOD:PUBLISH
X-WR-CALNAME:Instituto del Asfalto de Guatemala
X-ORIGINAL-URL:https://iag.org.gt
X-WR-CALDESC:Eventos para Instituto del Asfalto de Guatemala
REFRESH-INTERVAL;VALUE=DURATION:PT1H
X-Robots-Tag:noindex
X-PUBLISHED-TTL:PT1H
BEGIN:VTIMEZONE
TZID:America/Guatemala
BEGIN:STANDARD
TZOFFSETFROM:-0600
TZOFFSETTO:-0600
TZNAME:CST
DTSTART:20230101T000000
END:STANDARD
END:VTIMEZONE
BEGIN:VEVENT
DTSTART;TZID=America/Guatemala:20240918T080000
DTEND;TZID=America/Guatemala:20240920T170000
DTSTAMP:20260424T214347
CREATED:20240812T174006Z
LAST-MODIFIED:20240812T213048Z
UID:8342-1726646400-1726851600@iag.org.gt
SUMMARY:II Congreso Panameño del Asfalto. IPA - ❝La nueva era del asfalto.❞
DESCRIPTION:El Instituto Panameño del Asfalto IPA \, llevará a cabo su segundo congreso del asfalto\, con el tema: \n❝La nueva era del asfalto.❞ \n  \nGeneralidades: \nDías: 18\,19 y 20 de septiembre de 2024 \nHora: 8:00 am – 6:00 pm.  \nLugar: Hotel Marriott\, Panamá \nModalidad: Presencial \nPrecio: desde $75.00 hasta $220.00  \nMayor información: Visite:  \nhttps://ipafundacion.com/#Patrocinadores
URL:https://iag.org.gt/event/2do-congreso-panameno-del-asfalto-ipa-la-nueva-era-del-asfalto/
LOCATION:Panamá
CATEGORIES:Eventos
ATTACH;FMTTYPE=image/png:https://iag.org.gt/wp-content/uploads/2024/08/Captura-de-pantalla-2024-08-09-100300.png
END:VEVENT
BEGIN:VEVENT
DTSTART;TZID=America/Guatemala:20240925T180000
DTEND;TZID=America/Guatemala:20240925T190000
DTSTAMP:20260424T214348
CREATED:20240913T190639Z
LAST-MODIFIED:20240916T223548Z
UID:8463-1727287200-1727290800@iag.org.gt
SUMMARY:WEBINAR ❝Formulación y control de calidad de asfaltos modificados con SBS.❞
DESCRIPTION:Presentación: \nEste webinar está diseñado para profesionales de la industria del asfalto que buscan profundizar en los procesos de formulación y control de calidad de asfaltos modificados con Estireno-Butadieno-Estireno (SBS). Durante la sesión\, se explorarán las propiedades de este polímero\, su impacto en el rendimiento de las mezclas asfálticas y las mejores prácticas para asegurar la calidad y durabilidad de los pavimentos. \n\nConferencista:  \nIng.Andres Guerrero. \nCEO & TAD \nGrupo Inainsa. \nIngeniero Químico graduado por el Instituto Tecnológico de Mérida\, México. Cuenta con una Maestría en Energía Renovable por el Centro de Investigación Científica de Yucatán (CICY)​ Mx. Actualmente CEO de Grupo INAINSA. \nAndrés Guerrero Álvarez es un destacado profesional en el sector de asfaltos y pavimentación\, con más de 25 años de experiencia en el desarrollo y formulación de materiales asfálticos y poliméricos. A lo largo de su carrera\, ha desempeñado un papel clave en la investigación y aplicación de soluciones innovadoras para el mantenimiento y mejora del rendimiento de pavimentos en América Latina\, con un enfoque en tecnologías de última generación y procesos sostenibles. Su visión y capacidad para liderar equipos multidisciplinarios han sido fundamentales en su trayectoria como CEO de Grupo INAINSA\, donde ha impulsado el crecimiento de la empresa en México\, Centroamérica y Colombia. \nPrevio a su rol como CEO\, Andrés ocupó cargos técnicos y de liderazgo en empresas como Dynasol Elastomers y Emulsin S.A. De C.V. En Dynasol\, se desempeñó como Superintendente y especialista en asistencia técnica y desarrollo para la industria de asfaltos en América\, garantizando un servicio técnico de alto nivel a los clientes y colaborando en el desarrollo de nuevas aplicaciones para productos poliméricos. Andrés es también un investigador activo y ha colaborado en diversos estudios sobre la mejora de materiales asfálticos y poliméricos.  \nEntre sus contribuciones destacan la formulación de asfaltos modificados resistentes a la oxidación\, que han permitido optimizar tanto el desempeño como los costos en proyectos de pavimentación. Además\, ha participado en el desarrollo de polímeros funcionalizados de Estireno-Butadieno- Estireno (SBS)\, aplicados tanto en proyectos de impermeabilizacion como para asfaltos para carreteras. \n\nGeneralidades: \n\nDía: 25 de septiembre de 2024\nHora: 6:00 pm Zona horaria de Guatemala (GMT-6)\nDuración: 1 hr. (6:00 pm a 7:00 pm)\nModalidad: Virtual.\nPlataforma: Zoom\nPrecio: Sin costo.\n\n\nInscripción:  \nhttps://us06web.zoom.us/meeting/register/tZ0ofuyprzMpGdaeEhLD_EMeZ2tU3bBAYRe0 \n\n¡Cupo limitado! \n\n \n  \n 
URL:https://iag.org.gt/event/webinar-%e2%9d%9dformulacion-y-control-de-calidad-de-asfaltos-modificados-con-sbs-%e2%9d%9e/
LOCATION:Ciudad de Guatemala\, Guatemala
CATEGORIES:Eventos
ATTACH;FMTTYPE=image/png:https://iag.org.gt/wp-content/uploads/2024/09/Analisis-de-la-Estructura-del-Pavimento.png
ORGANIZER;CN="IAG":MAILTO:capacitacion@iag.org.gt
END:VEVENT
END:VCALENDAR