BEGIN:VCALENDAR
VERSION:2.0
PRODID:-//Instituto del Asfalto de Guatemala - ECPv6.15.11//NONSGML v1.0//EN
CALSCALE:GREGORIAN
METHOD:PUBLISH
X-ORIGINAL-URL:https://iag.org.gt
X-WR-CALDESC:Eventos para Instituto del Asfalto de Guatemala
REFRESH-INTERVAL;VALUE=DURATION:PT1H
X-Robots-Tag:noindex
X-PUBLISHED-TTL:PT1H
BEGIN:VTIMEZONE
TZID:America/Guatemala
BEGIN:STANDARD
TZOFFSETFROM:-0600
TZOFFSETTO:-0600
TZNAME:CST
DTSTART:20230101T000000
END:STANDARD
END:VTIMEZONE
BEGIN:VEVENT
DTSTART;TZID=America/Guatemala:20240319T160000
DTEND;TZID=America/Guatemala:20240319T190000
DTSTAMP:20260425T095929
CREATED:20240312T144050Z
LAST-MODIFIED:20240312T191302Z
UID:8228-1710864000-1710874800@iag.org.gt
SUMMARY:Seminario: Economías en estructura de pavimentos flexibles con Geosintéticos.
DESCRIPTION:Este evento tiene como objetivo principal explorar las ventajas económicas y técnicas que ofrecen los geosintéticos en la construcción y mantenimiento de pavimentos flexibles. \nSerá una excelente oportunidad para conocer de cerca cómo la incorporación estratégica de geosintéticos puede mejorar la durabilidad\, resistencia y eficiencia de los pavimentos al tiempo que reduce los costos de construcción y prolonga la vida útil de las carreteras y caminos. \nEl seminario será impartido por el experto en el tema: MSc. Juan Pablo Broissin quien nos compartirá sus conocimientos y experiencias. \nGeneralidades:\nCatedrático: \nMSc. Juan Pablo Broissin \nExpertis: Ingeniero Civil\, y Director Comercial Solmax en Latinoamérica \, egresado del Instituto Politécnico Nacional con Maestría en Administración y Finanzas por la Escuela Bancaria Comercial. Especializado en el diseño con Geosintéticos en estructuras de pavimentos\, terraplenes\, cimentaciones y muros de contención. Experiencia internacional con proyectos ejecutados en más de 10 países incluyendo gran parte de Latinoamérica\, España\, India y Australia. \n  \nHorario: \n\nDía: Martes 19 de marzo 2024\nHora: 4:00 – 7:00 pm\nLugar: Hotel AC Marriott zona 16 Cayala\, Salón Aurora.\n\n  \nIncluye: \n\nDiploma de participación\nPresentaciones\nCoffee Break\nCoctel de cierre\n\n  \nPrecio: \n\nPúblico General : Q 350.00\nSocios IAG: Q 250.00\n\n  \nInscripción: \nhttps://forms.gle/R4CE48JEPqWqXY2D9 \n  \nPrograma: \n  \n\n\n4:00 pm – 4:05 pm  Palabras de bienvenida por Eunice Bonilla\, Directora ejecutiva de IAG.\n4:05 pm – 4:10 pm  Palabras de bienvenida por MSc. Rodrigo Rubio Presidente IAG.\n4:10 pm – 4:15 pm  Palabras de bienvenida por MSc. Mary Jerez. Secretario IAG / Directora de proyectos con Geosintéticos para CA\n4:15 pm – 5:00 pm  Conferencia MSc Juan Pablo Broissin Economías en Estructura De Pavimentos Flexibles con Geosintéticos\n5:00 pm – 5:15 pm   Receso / Networking\n5:15 pm – 6:00 pm Conferencia MSc Juan Pablo Broissin Economías en Estructura De Pavimentos Flexibles con Geosintéticos.\n6:00 pm – 7:00 pm Coctel de Cierre /  Networking auspicio por SOLMAX.
URL:https://iag.org.gt/event/economias-en-estructura-de-pavimentos-flexibles-con-geosinteticos/
LOCATION:Ciudad capital\, Guatemala\, Guatemala
CATEGORIES:Eventos
ATTACH;FMTTYPE=image/png:https://iag.org.gt/wp-content/uploads/2024/03/Untitled-design-34.png
ORGANIZER;CN="IAG":MAILTO:capacitacion@iag.org.gt
END:VEVENT
BEGIN:VEVENT
DTSTART;TZID=America/Guatemala:20240325T090000
DTEND;TZID=America/Guatemala:20240327T170000
DTSTAMP:20260425T095929
CREATED:20240101T140015Z
LAST-MODIFIED:20240201T172623Z
UID:8184-1711357200-1711558800@iag.org.gt
SUMMARY:WORLD OF ASPHALT 2024 - FERIA Y CONFERENCIA LÍDER EN ASFALTO
DESCRIPTION:El World of Asphalt es la feria y conferencia comercial líder para los sectores de la industria del asfalto\, agregados\, mantenimiento de pavimentos y seguridad vial. \nÚnase a más de 400 expositores líderes y más de 11\,000 profesionales de pavimentación de asfalto y agregados en el evento más grande centrado en asfaltos y agregados. \nEl World of Asphalt se llevará a cabo el próximo año 2024:\n\nFechas:  del  25 al 27 de marzo de 2024\nHorario: lunes a martes: 9 a. m. a 5 p. m. · miércoles: 9 a. m. a 2 p. m.\nLugar: Music City Center  201 Rep. John Lewis Way S ·\nEstado: Nashville · TN · 37203\n\n¿QUIEN ASISTE?\n\nWorld of Asphalt es el mayor evento para profesionales y contratistas del asfalto en: \n\n\n\nAgregados\nMantenimiento de asfalto\nPavimentación de asfalto\nOperaciones de negocios\nTransportación\nPoder portátil\nSoluciones Tecnológicas.\n\n\nLa Conferencia sobre Personas\, Plantas y Pavimentación presenta oportunidades de aprendizaje con expertos líderes de la industria para ofrecer soluciones a los problemas que afectan a la industria del asfalto. \n\nInfórmese: escuche a más oradores sobre más temas de la industria.\nAsista a paneles: escuche a los líderes de la industria mantener conversaciones abiertas y honestas.\nDescubra ideas: obtenga información útil que pueda aplicar a su negocio.\nSpark Conversaciones: Haga preguntas\, responda preguntas y cree conexiones duraderas.\n\nUn evento en  TENDENCIAS Y TECNOLOGÍA DEL ASFALTO: Obtenga las últimas noticias y actualizaciones de World of Asphalt\, la conferencia y feria comercial líder en asfalto. Manténgase informado sobre las tendencias y tecnologías de la industria. \n\nEl mundo del asfalto en cifras: \n\n400 Expositores\n120 Sesiones educativas\n193 k pies cuadrados netos\n\nAsegura el World of Asphalt en su página oficial. \n\nObtenga mayor información en el siguiente enlace: \nhttps://www.worldofasphalt.com/ \nPuede adquirir sus entradas con un 40% de descuento antes del 15 de diciembre por $99 USD usando el código: SOCIAL40 \n  \n \nhttps://bit.ly/3Qog5P4 \n\n\n\n\n\n\n\n  \n\n 
URL:https://iag.org.gt/event/world-of-asphalt-feria-y-conferencia-lider-en-asfalto/
LOCATION:Nashville\, Tennessee.
CATEGORIES:Eventos
ATTACH;FMTTYPE=image/png:https://iag.org.gt/wp-content/uploads/2023/11/pya-2.png
END:VEVENT
END:VCALENDAR