BEGIN:VCALENDAR
VERSION:2.0
PRODID:-//Instituto del Asfalto de Guatemala - ECPv6.15.11//NONSGML v1.0//EN
CALSCALE:GREGORIAN
METHOD:PUBLISH
X-ORIGINAL-URL:https://iag.org.gt
X-WR-CALDESC:Eventos para Instituto del Asfalto de Guatemala
REFRESH-INTERVAL;VALUE=DURATION:PT1H
X-Robots-Tag:noindex
X-PUBLISHED-TTL:PT1H
BEGIN:VTIMEZONE
TZID:America/Guatemala
BEGIN:STANDARD
TZOFFSETFROM:-0600
TZOFFSETTO:-0600
TZNAME:CST
DTSTART:20220101T000000
END:STANDARD
END:VTIMEZONE
BEGIN:VEVENT
DTSTART;TZID=America/Guatemala:20231002T080000
DTEND;TZID=America/Guatemala:20231006T170000
DTSTAMP:20260425T182515
CREATED:20230227T161719Z
LAST-MODIFIED:20240201T181307Z
UID:7330-1696233600-1696611600@iag.org.gt
SUMMARY:XXVII Congreso Mundial de la Carretera 2023
DESCRIPTION:Este 2023 se llevará a cabo el XXVII Congreso Mundial de la Carretera 2023\, con el tema “Juntos de nuevo en la carretera”\, Praga será sede del evento. \nEl XXVIIº Congreso Mundial de la Carretera tiene como meta ofrecer una visión integral del sector de la carretera\, respecto a su situación actual y futuras tendencias. \nDentro del contenido técnico del Congreso se dirigirá una gama amplia de asuntos relacionados a la infraestructura en las carreteras y en el transporte de toda la orbe\, dentro del plan estrategico del congreso se ha comprendido cuatro de los temas mas relevantes a desarrollar: administración de carreteras\, movilidad\, resiliencia de la infraestructura y seguridad y sostenibilidad\, asegura el World Road Congress en su página oficial. \nEl desarrollo y el crecimiento económico son requisitos para que los países prosperen. Sin embargo\, la pandemia y los retos que supone tener que considerar la resiliencia en el suministro y el mantenimiento de las infraestructuras viarias nos han enseñado a superar el pragmatismo de este enfoque. Nuestro punto de vista debe abarcar objetivos sociales\, trabajar por la reducción de la pobreza y promover la innovación que conduzca a la mejora de la calidad de vida. La infraestructura vial\, como activo comunitario\, ha demostrado a lo largo de los años ser una poderosa herramienta para mejorar la calidad de vida y promover la cohesión social. Sin embargo\, garantizar su sostenibilidad requiere procesos integrados\, participativos e inclusivos para lograr los resultados deseados. Son palabras del Presidente del PIARC Nazir Alli \nDel 2 al 6 de octubre 2023 se llevará a cabo el Congreso. Ya es posible registrarse para el XXVII Congreso Mundial de Carreteras de PIARC. Evento internacional que reunirá a todos los expertos en carretera y transporte por carretera. \nPara mayor información: \nhttps://www.wrc2023prague.org/es \nhttps://www.piarc.org/es/ \n 
URL:https://iag.org.gt/event/xxvii-congreso-mundial-de-la-carretera-2023/
LOCATION:República Checa\, Praga
CATEGORIES:Eventos
ATTACH;FMTTYPE=image/png:https://iag.org.gt/wp-content/uploads/2023/02/WORLD-ROAD-CONGRESS.png
END:VEVENT
BEGIN:VEVENT
DTSTART;TZID=America/Guatemala:20231015T080000
DTEND;TZID=America/Guatemala:20231018T170000
DTSTAMP:20260425T182515
CREATED:20230808T212211Z
LAST-MODIFIED:20240201T181258Z
UID:7996-1697356800-1697648400@iag.org.gt
SUMMARY:13th Conference on Asphalt Pavements for southern Africa (CAPSA)
DESCRIPTION:La Asociación de Betún de Africana Meridional SABITA por sus siglas en ingles The Southern African Bitumen Association llevará a cabo la 13ª Conferencia sobre Pavimentos Asfálticos para el sur de África (CAPSA) dirigida a profesionales involucrados en el diseño\, suministro y conservación de pavimentos flexibles\, se llevará a cabo en Champagne Sports Resort en la región Central Drakensberg de la Provincia de KwaZulu-Natal\, Sur África del 15 al 18 de octubre de 2023. \nDesde la primera CAPSA\, celebrada en 1969 en Durban\, Sudáfrica\, esta conferencia se ha esforzado continuamente por seguir el ritmo de la rápida evolución de la industria y la práctica para garantizar que los pavimentos asfálticos puedan continuar brindando a los propietarios de carreteras y\, en última instancia\, a los usuarios de carreteras\, servicios duraderos y duraderos. carreteras seguras para hacer crecer la economía y apoyar las necesidades de desarrollo social de la región. Claramente\, desde su nacimiento hace 53 años\, el panorama sociopolítico y ambiental ha sufrido una transformación significativa. Al mantenerse al tanto y ser sensible a estos cambios en la formulación de sus programas y formatos de conferencias\, CAPSA se ha asegurado de que sigan siendo un elemento clave en el calendario de los profesionales activos en el campo de la ingeniería del transporte. \nEsta 13ª conferencia no es una excepción. El tema de CAPSA ’23 es Tecnología de vanguardia para respaldar la provisión de carreteras sostenibles. En un esfuerzo por dar sustancia a este tema\, se presentarán y discutirán enfoques y tecnologías globales actualizados para afianzar la competencia en la provisión de caminos a través del desempeño óptimo de pavimentos flexibles. Un hilo conductor será la necesidad de adoptar y acelerar la industria 4.0. \nUna vez más\, al desarrollar el formato de la conferencia\, se hará un esfuerzo concertado para maximizar la participación de los delegados. Esto abarcará desde intensos debates técnicos entre especialistas hasta el intercambio de conocimientos y la colaboración entre profesionales experimentados y nuevos participantes en el sector de las carreteras. Una característica clave de la conferencia es brindar una amplia oportunidad de contacto personal entre los delegados para brindarles una plataforma única para interactuar socialmente y discutir asuntos de interés mutuo. Como en el pasado\, CAPSA ’23 brindará amplias oportunidades para establecer contactos en los eventos sociales planificados. \nActualmente\, los comités asesores ejecutivo y técnico están realizando un esfuerzo conjunto para desarrollar un programa de conferencias que cumpla con estos objetivos\, asegurando así que esta\, la 13.ª conferencia en esta prestigiosa serie de conferencias de clase mundial\, será nuevamente un evento memorable y de gran éxito. . \nAsegura Manicum de Mahendren\, Presidente CAPSA 23\, en la pagina oficial del evento. https://capsa2023.co.za/ \n  \nhttps://www.sabita.co.za/training/ \n  \n 
URL:https://iag.org.gt/event/13th-conference-on-asphalt-pavements-for-southern-africa-capsa/
LOCATION:KwaZulu-Natal Province\, South Africa
CATEGORIES:Eventos
ATTACH;FMTTYPE=image/jpeg:https://iag.org.gt/wp-content/uploads/2023/08/capsa-logo-no-date-scaled-1.jpg
END:VEVENT
BEGIN:VEVENT
DTSTART;TZID=America/Guatemala:20231030T080000
DTEND;TZID=America/Guatemala:20231201T170000
DTSTAMP:20260425T182515
CREATED:20230912T155416Z
LAST-MODIFIED:20240201T181247Z
UID:8099-1698652800-1701450000@iag.org.gt
SUMMARY:19ª Conferencia Internacional de Pavimentos Flexibles de AfPA 🇦🇺
DESCRIPTION:La AUSTRALIAN FLEXIBLE PAVEMENT ASSOCIATION  por sus siglas en inglés: (AFPA) este año llevará a cabo su 19ª Conferencia Internacional de Pavimentos Flexibles. \n“Allanar de forma segura el camino hacia el carbono cero.”\n\nSerá el nombre que llevará el evento\, se desarrollará en la ciudad de Brisbane\, Australia del 30 de octubre al 1 de noviembre de 2023. \nEl evento está dirigido a : \n\nAgencias de carreteras estatales\nGobierno local\nConstrucción y construcción de carreteras.\nIndustria\nInstituciones académicas de todo el mundo.\n\nLos temas de la Conferencia incluye sesiones sobre: \nCarreteras más seguras\n\nInfluencia futura del sistema seguro\nMejora de la seguridad vial a través del diseño\nEvaluaciones de sistemas seguros\n\nPersonas más seguras\n\nIniciativas de seguridad\nMejorar la seguridad en el lugar de trabajo\nMantener a las personas seguras con la tecnología\n\nCarreteras resilientes\n\nCómo implementar el cambio climático en las consideraciones de diseño para construir pavimentos viales resilientes\nSoluciones y prácticas de mantenimiento innovadoras para mejorar la resiliencia\, la durabilidad y el rendimiento de los pavimentos.\nMejores prácticas para propietarios de activos para responder a desastres naturales\n\nGobernanza y Sostenibilidad\n\nRecursos de sostenibilidad para informar sobre la huella de carbono\nDeclaraciones medioambientales de producto\nMarcos de evaluación de la sostenibilidad y opciones de adquisiciones sostenibles\nMejores prácticas para la gestión sostenible de los activos de infraestructuras de transporte.\n\nSoluciones innovadoras\n\nEl uso de la IA en las prácticas de mantenimiento\nSoluciones inteligentes para apoyar la eficiencia y durabilidad de los pavimentos\nPlantas y equipos de última generación.\n\nRendimiento del pavimento\n\nPavimentos flexibles de altas prestaciones para Aeropuertos y Puertos\nLigantes bituminosos avanzados e innovadores\nImpacto de la calidad del betún en el rendimiento de la mezcla asfáltica.\nIncorporación de flujos de residuos y contenido reciclado en el diseño y construcción de pavimentos.\n\nPrácticas de construcción\n\nAplicaciones de caucho granulado\nMateriales\, tecnologías y procesos para extender la durabilidad del pavimento\nUso de mejores prácticas de RAP/WMA\n\nPreservación\, Mantenimiento y Rehabilitación de Pavimentos\n\nImpacto de los fenómenos meteorológicos extremos en las aceras\nLo que se debe y no se debe hacer en mantenimiento y rehabilitación\nMejores prácticas de mantenimiento\, conservación y tratamientos de construcción de pavimentos.\n\nCaminos futuros\n\nNecesidades de la red de transporte en 2050\nVehículos del futuro\nEl impacto de las futuras necesidades de transporte y movilidad en el diseño de pavimentos.\n\nPara  mayor información del programa visite el siguiente enlaces: \n  \nhttps://www.afpa.asn.au/conference-overview/
URL:https://iag.org.gt/event/19a-conferencia-internacional-de-pavimentos-flexibles-de-afpa-%f0%9f%87%a6%f0%9f%87%ba/
LOCATION:Brisbane\, Australia\, Australia
CATEGORIES:Eventos
ATTACH;FMTTYPE=image/png:https://iag.org.gt/wp-content/uploads/2023/09/AFPA-.png
END:VEVENT
END:VCALENDAR