BEGIN:VCALENDAR
VERSION:2.0
PRODID:-//Instituto del Asfalto de Guatemala - ECPv6.15.11//NONSGML v1.0//EN
CALSCALE:GREGORIAN
METHOD:PUBLISH
X-ORIGINAL-URL:https://iag.org.gt
X-WR-CALDESC:Eventos para Instituto del Asfalto de Guatemala
REFRESH-INTERVAL;VALUE=DURATION:PT1H
X-Robots-Tag:noindex
X-PUBLISHED-TTL:PT1H
BEGIN:VTIMEZONE
TZID:America/Guatemala
BEGIN:STANDARD
TZOFFSETFROM:-0600
TZOFFSETTO:-0600
TZNAME:CST
DTSTART:20250101T000000
END:STANDARD
END:VTIMEZONE
BEGIN:VEVENT
DTSTART;TZID=America/Guatemala:20260323T080000
DTEND;TZID=America/Guatemala:20260326T170000
DTSTAMP:20260423T161740
CREATED:20260309T220735Z
LAST-MODIFIED:20260309T221256Z
UID:9192-1774252800-1774544400@iag.org.gt
SUMMARY:Reunión anual y sesiones técnicas de la AAPT 2026
DESCRIPTION:Reunión anual y sesiones técnicas de la AAPT 2026\n \n  \nLa AAPT – Asociación de Especialistas en Tecnología de Pavimentos Asfálticos\, invita a participar en su Reunión anual y sesiones técnicas de la AAPT 2026. \n  \nGENERALIDADES: \n\nTipo de evento: Reunión anual y sesiones técnicas\nFormato: Presencial\nLugar: Hyatt Regency Boston\nDía: 23 -26  de marzo de 2026\n\nMás información: \nhttps://www.asphalttechnology.org/site_event_detail.cfm?pk_association_event=33907 \n  \n  \n 
URL:https://iag.org.gt/event/reunion-anual-y-sesiones-tecnicas-de-la-aapt-2026/
LOCATION:Boston\,
CATEGORIES:Eventos
ATTACH;FMTTYPE=image/png:https://iag.org.gt/wp-content/uploads/2026/03/CHAMBERY-2026-1.png
ORGANIZER;CN="AAPT":MAILTO:aapt@asphalttechnology.org
END:VEVENT
BEGIN:VEVENT
DTSTART;TZID=America/Guatemala:20260409T103000
DTEND;TZID=America/Guatemala:20260409T130000
DTSTAMP:20260423T161740
CREATED:20260407T215134Z
LAST-MODIFIED:20260407T215134Z
UID:9215-1775730600-1775739600@iag.org.gt
SUMMARY:Día Internacional de la Conservación de Carreteras
DESCRIPTION:❝Día Internacional de la Conservación de Carreteras❞ \n¡El mantenimiento de las carreteras importa! –  \n¡Transmisión en directo desde Bruselas! \n(IRMD\, por sus siglas en inglés) International Road Maintenance Day \nRoad Maintenance Matters conmemorará el  Día Internacional del Mantenimiento de Carreteras (IRMD\, por sus siglas en inglés) con una sesión en línea en directo el 9 de abril de 2026 \, reuniendo a ponentes expertos para concienciar y debatir sobre cuestiones clave que afectan al mantenimiento de carreteras en toda Europa. \nOrganizado por la Asociación Europea de Pavimentos Asfálticos (EAPA) en colaboración con el Foro Europeo de Mantenimiento de Carreteras (ERMF) \, el evento destaca el importante papel del mantenimiento adecuado de las carreteras para reducir las emisiones de CO₂ y apoyar sistemas de transporte más sostenibles. \nDado que la UE se ha propuesto reducir las emisiones de gases de efecto invernadero en un 55 % para 2030 y alcanzar la neutralidad climática para 2050 \, el sector vial desempeña un papel crucial. Unas carreteras bien mantenidas pueden reducir el consumo de combustible y las emisiones de CO₂ hasta en un 5 % \, al tiempo que mejoran las condiciones de viaje y fomentan las prácticas de economía circular. \nPonentes\, periodistas y un pequeño número de invitados se reunirán en la oficina de la EAPA en Bruselas \, mientras que los participantes de todo el mundo podrán unirse a la sesión en línea . \n  \nLa participación es gratuita (se requiere inscripción) . \nRegístrate aquí. \n\nAsistencia únicamente en línea. \nInformación obtenida en: https://eapa.org/2026-international-road-maintanance-day-irmd/\n \n  \n\nDía: miércoles 9 de abril\nHora::10:30 a 13:00\nFormato: Digital\nPrecio:  €0\,00\nInscripción: https://eapa.org/2026-international-road-maintanance-day-irmd/\nPágina web: https://eapa.org/event/road-maintenance-matters-live-streamed-from-brussels/\n\n  \n  \n 
URL:https://iag.org.gt/event/dia-internacional-de-la-conservacion-de-carreteras/
LOCATION:Europa
CATEGORIES:Eventos
ATTACH;FMTTYPE=image/jpeg:https://iag.org.gt/wp-content/uploads/2026/04/IRMD2026JPG.jpeg
END:VEVENT
BEGIN:VEVENT
DTSTART;TZID=America/Guatemala:20260423T080000
DTEND;TZID=America/Guatemala:20260423T170000
DTSTAMP:20260423T161740
CREATED:20260323T224528Z
LAST-MODIFIED:20260323T224847Z
UID:9206-1776931200-1776963600@iag.org.gt
SUMMARY:Día del Asfalto y el Betún 2026
DESCRIPTION:El jueves 23 de abril de 2026\, BVA y Eurobitume organizan el evento bienal Asphalt and Betumen Day en Event Lounge Brussels. Esta jornada se ha convertido en una cita tradicional donde se reúnen todos los grupos que trabajan en la industria del asfalto y el betún en Bélgica. \nTema: Calidad e innovación\nTras el éxito de la edición de 2024\, que contó con la asistencia de más de 150 profesionales y cuyo tema central fue “Asfalto duradero para un futuro sostenible”\, la edición de 2026 se centra en la calidad y la innovación. Ponentes expertos presentarán los últimos avances en betún y asfalto\, con el objetivo de poner al día a todos los participantes sobre la situación actual de la construcción de carreteras asfálticas y ofrecer una perspectiva de los desarrollos futuros. \nExposición y oportunidades para establecer contactos\nAdemás del interesante programa de presentaciones\, se instalará una exposición donde productores\, proveedores y contratistas exhibirán y debatirán sobre sus últimos productos y novedades. El Día del Asfalto y el Betún 2026 vuelve a ser un evento único para establecer nuevos contactos y mantener los existentes. \nEl programa es de interés para cualquier persona involucrada en todos los aspectos de los pavimentos asfálticos\, desde el diseño hasta la puesta en marcha. \nPráctico\n\nFecha: 23 de abril de 2026\nUbicación: Salón de eventos\, Bruselas\nPróximamente más información e inscripciones.\n\n  \nFuente: https://www.bva-abpe.be/nl/nieuws/save-the-date-asfalt-en-bitumendag-2026/ \n 
URL:https://iag.org.gt/event/asphalt-and-betumen-day/
LOCATION:Bruselas
CATEGORIES:Eventos
ATTACH;FMTTYPE=image/webp:https://iag.org.gt/wp-content/uploads/2026/03/save-the-date-e1762954956948-1898x1138-1.webp
END:VEVENT
BEGIN:VEVENT
DTSTART;TZID=America/Guatemala:20260423T090000
DTEND;TZID=America/Guatemala:20260423T123000
DTSTAMP:20260423T161740
CREATED:20260304T180429Z
LAST-MODIFIED:20260414T221624Z
UID:9160-1776934800-1776947400@iag.org.gt
SUMMARY:Seminario: Experiencias del uso de Aditivos y Agregados Reciclados en Pavimentos Asfálticos. (Casos de éxito en Colombia\, México y Costa Rica.)
DESCRIPTION:El Instituto del Asfalto de Guatemala (IAG) invita a su próximo evento presencial: \nSeminario: Experiencias en el uso de aditivos y agregados reciclados en pavimentos asfálticos (casos de éxito en Colombia\, México y Costa Rica). \nEstrategias para el manejo de recursos sostenibles en pavimentos asfálticos bajo el concepto de economía circular. \n \n\nOBJETIVO:\nAnalizar y difundir las experiencias exitosas en el uso de aditivos y agregados reciclados en pavimentos asfálticos en países como Colombia\, México y Costa Rica\, con el fin de promover estrategias sostenibles basadas en el enfoque de economía circular\, optimizando el uso de recursos\, reduciendo el impacto ambiental y fomentando la innovación en la infraestructura vial. \n\nCONFERENCISTA NACIONAL:\nEl seminario será impartido por los siguientes conferencistas: \nAdolfo Cruz es un emprendedor guatemalteco con más de una década de experiencia en el desarrollo de soluciones sostenibles aplicadas al sector de la construcción. Es fundador y director general de Supra Reciclaje\, S.A.\, una empresa pionera en la transformación de residuos industriales\, plásticos y orgánicos en productos de alto valor bajo el enfoque de economía circular. \nSu trayectoria destaca por la implementación de proyectos innovadores como mezclas ecológicas\, fertilizantes orgánicos y sistemas de separación con impacto social\, así como por su participación en iniciativas internacionales relacionadas con materiales sostenibles. Además\, ha recibido reconocimientos por su liderazgo en modelos circulares y ha sido incluido en publicaciones y eventos de relevancia global\, consolidándose como un referente en economía circular en Centroamérica. \n\nCONFERENCISTAS INTERNACIONALES:\nCarlos Eduardo Jiménez Vargas es un ingeniero en construcción costarricense con amplia experiencia en control de calidad de materiales\, inspección de obras civiles y gestión de laboratorios. Cuenta con sólidos conocimientos en cemento\, concreto\, asfalto\, agregados y aditivos\, así como en la implementación de sistemas de gestión y soluciones sostenibles basadas en economía circular. \nA lo largo de su trayectoria profesional\, ha desempeñado roles clave en investigación\, desarrollo e innovación de materiales en empresas e instituciones reconocidas\, liderando proyectos técnicos\, análisis de factibilidad y cumplimiento normativo. Su experiencia incluye la coordinación de laboratorios\, supervisión de proyectos de infraestructura y desarrollo de nuevos productos para la industria de la construcción\, destacándose por su liderazgo\, enfoque en resultados y capacidad de trabajo en equipo. \nAlejandro Valencia Gómez es un ingeniero mecánico colombiano con especialización en gerencia comercial y un MBA\, que cuenta con más de 22 años de experiencia en la dirección y crecimiento sostenible de empresas en sectores como construcción\, materiales\, servicios\, logística y manufactura. Su perfil se caracteriza por una sólida capacidad en planeación estratégica\, desarrollo de negocios\, transformación digital y liderazgo de equipos multidisciplinarios con enfoque en resultados y sostenibilidad. \nActualmente se desempeña como gerente general de Granulados Reciclados de Colombia (GRECO S.A.S.)\, donde lidera iniciativas enfocadas en el aprovechamiento de residuos de construcción y demolición\, promoviendo modelos de economía circular. Durante su gestión ha logrado importantes resultados en crecimiento empresarial\, eficiencia operativa y posicionamiento en el sector\, destacándose por su capacidad de innovación\, relacionamiento institucional y generación de impacto económico\, social y ambiental. \n\nTEMAS:\n\nIntroducción: situación actual del uso de materiales reciclados en Guatemala — Adolfo Cruz (GT)\n\nOperación actual (pedrera\, Cayalá\, líneas móviles)\nProcesamiento de ripio (trituración\, clasificación y control granulométrico)\nAplicaciones actuales en bases y subbases\nExperiencia previa en suelo-cemento con incorporación de ripio\nConexión con normativa vial vigente en Guatemala (bases\, subbases\, estabilización y pavimentos)\n\n\nAditivos reciclados para mezclas asfálticas (mezclado\, producción y desempeño) — Carlos Jiménez (CR)\n\nFuncionamiento dentro de mezclas asfálticas\nResultados técnicos y validaciones internacionales (Costa Rica\, México\, entre otros)\nPotencial de aplicación en Guatemala (por ejemplo\, mezclas densas tipo D)\n\n\nMateriales reciclados en capas estructurales de pavimentos y subrasantes (clasificación\, controles de calidad\, normativa\, especificaciones y potencialización) — Alejandro Valencia Gómez (COL)\n\nFuncionamiento del modelo en Colombia\nMarco normativo y estructuración del sistema de RCD\nProducción de agregados reciclados\nAplicaciones reales en bases y subbases\nCasos y lecciones aprendidas\n\n\n\n\nGENERALIDADES:\n\nFormato: Presencial\nLugar: Hotel AC Marriott\, Salón Ixcánul\, Cayalá\, zona 16\nDía: 23 de abril de 2026\nHora: 9:00 a. m. – 12:30 p. m.\n\nInversión: \n\nSocios IAG: Q200.00\nPúblico general: Q300.00\n\nDepósito o transferencia a cuenta: \n\nNombre: Instituto del Asfalto de Guatemala\nBanco: Banco Industrial (BI)\nTipo de cuenta: Monetaria\nNúmero de cuenta: 004-0054405\n\nIncluye: \n\nCoffee break\nDiploma de participación\nPresentaciones\n\n  \nInscripción: \n\nhttps://forms.gle/q5WxmVfstK6UePAFA\n\n \nCon el auspicio de: SUPRA RECICLAJE \n¡Inscríbete y no te quedes fuera! \n\n\n\n\n\n \n 
URL:https://iag.org.gt/event/seminario-experiencias-del-uso-de-aditivos-y-agregados-reciclados-en-pavimentos-asfalticos-casos-de-exito-en-colombia-mexico-y-costa-rica/
LOCATION:Ciudad de Guatemala\, Guatemala
CATEGORIES:Eventos
ATTACH;FMTTYPE=image/png:https://iag.org.gt/wp-content/uploads/2026/03/PORTADA-PAG-WEB-SEMINARIO.png
ORGANIZER;CN="IAG":MAILTO:capacitacion@iag.org.gt
END:VEVENT
END:VCALENDAR