BEGIN:VCALENDAR
VERSION:2.0
PRODID:-//Instituto del Asfalto de Guatemala - ECPv6.15.11//NONSGML v1.0//EN
CALSCALE:GREGORIAN
METHOD:PUBLISH
X-WR-CALNAME:Instituto del Asfalto de Guatemala
X-ORIGINAL-URL:https://iag.org.gt
X-WR-CALDESC:Eventos para Instituto del Asfalto de Guatemala
REFRESH-INTERVAL;VALUE=DURATION:PT1H
X-Robots-Tag:noindex
X-PUBLISHED-TTL:PT1H
BEGIN:VTIMEZONE
TZID:America/Guatemala
BEGIN:STANDARD
TZOFFSETFROM:-0600
TZOFFSETTO:-0600
TZNAME:CST
DTSTART:20240101T000000
END:STANDARD
END:VTIMEZONE
BEGIN:VEVENT
DTSTART;TZID=America/Guatemala:20250325T080000
DTEND;TZID=America/Guatemala:20250327T170000
DTSTAMP:20260424T182635
CREATED:20250124T193654Z
LAST-MODIFIED:20250124T193728Z
UID:8524-1742889600-1743094800@iag.org.gt
SUMMARY:World Of Asphalt 2025
DESCRIPTION:El World of Asphalt es la exposición y conferencia que se centra exclusivamente en la industria del asfalto y es su principal recurso educativo y de exposición. World of Asphalt ofrece una programación educativa exhaustiva centrada en la industria y exposiciones integrales que muestran las últimas tecnologías e innovaciones en equipos\, productos y servicios relacionados con el asfalto.El World of Asphalt Show & Conference se lleva a cabo junto con la AGG1 Academy & Expo de NSSGA\, lo que proporciona una experiencia de exhibición mejorada para los asistentes al ofrecer exhibiciones adicionales y oportunidades educativas. \n\nFECHAS Y LUGAR\nLa próxima edición de World of Asphalt se llevará a cabo del martes 25 al jueves 27 de marzo de 2025 en St. Louis\, Missouri. \nWorld of Asphalt se lleva a cabo todos los años\, excepto en los años de CONEXPO-CON/AGG\, cuando esa exposición destaca los equipos\, productos y servicios que se presentan en World of Asphalt en áreas de concentración de productos distintas e importantes. \nASISTENTES\nWorld of Asphalt está dirigido a profesionales de la industria del asfalto\, carreteras y calles\, mantenimiento de pavimentos y seguridad vial de todo tipo de empresas\, como contratistas pequeños y grandes\, productores de materiales\, personal de especificaciones estatales y de agencias\, empresas de mantenimiento\, fabricantes y proveedores de servicios. Más de 15.000 visitantes provienen de todo Estados Unidos y del mundo entero. \nEXPOSICIONES\nWorld of Asphalt exhibe una amplia gama de los productos\, tecnologías y servicios más nuevos de 440 empresas líderes de la industria en áreas que incluyen: \n\nEquipos para producción y reciclaje de asfalto\nMaquinaria para la construcción de carreteras\nEquipos de mantenimiento de pavimentos\nEstabilizadores de suelos\nTecnologías de la información\nProductos químicos y petrolíferos\nControl de la contaminación\nEquipo de prueba\nSeguridad en zonas de obras y gestión del tráfico\nCamiones y remolques\n\nWorld of Asphalt presenta un Programa de Nuevos Productos y Tecnología como otra forma para que los asistentes encuentren rápidamente productos y servicios nuevos e innovadores en el piso de exposición. \nAdemás\, los pabellones de exhibición centrados en productos facilitan que los asistentes y expositores se conecten y discutan funciones operativas específicas para ver quién  exhibe y obtener más información. \n\nEDUCACIÓN\nWorld of Asphalt organiza prestigiosas conferencias educativas sobre la industria del asfalto\, incluida la conferencia “Personas\, plantas y pavimentación”. \n\n\nDUEÑOS Y PRODUCTORES DEL ESPECTÁCULO\nWorld of Asphalt es propiedad de la  Asociación de Fabricantes de Equipos (AEM) \,  la Asociación Nacional de Pavimentos Asfálticos (NAPA) y  la Asociación Nacional de Piedras\, Arenas y Gravas (NSSGA) .  AEM es el productor del espectáculo. \n\nAsegura en el World of Asphalt en su página oficial. \nWorld of Asphalt 2025\, 01\, 24.  World of Asphalt. Presentación del Evento. https://www.worldofasphalt.com/press/event-fact-sheet \n\n  \n 
URL:https://iag.org.gt/event/world-of-asphalt-2025/
LOCATION:St. Louis\, Missouri.\, St. Louis\, Missouri.\, United States
CATEGORIES:Eventos
ATTACH;FMTTYPE=image/png:https://iag.org.gt/wp-content/uploads/2023/11/pya-1.png
END:VEVENT
END:VCALENDAR