BEGIN:VCALENDAR
VERSION:2.0
PRODID:-//Instituto del Asfalto de Guatemala - ECPv6.15.11//NONSGML v1.0//EN
CALSCALE:GREGORIAN
METHOD:PUBLISH
X-WR-CALNAME:Instituto del Asfalto de Guatemala
X-ORIGINAL-URL:https://iag.org.gt
X-WR-CALDESC:Eventos para Instituto del Asfalto de Guatemala
REFRESH-INTERVAL;VALUE=DURATION:PT1H
X-Robots-Tag:noindex
X-PUBLISHED-TTL:PT1H
BEGIN:VTIMEZONE
TZID:America/Guatemala
BEGIN:STANDARD
TZOFFSETFROM:-0600
TZOFFSETTO:-0600
TZNAME:CST
DTSTART:20230101T000000
END:STANDARD
END:VTIMEZONE
BEGIN:VEVENT
DTSTART;TZID=America/Guatemala:20241115T080000
DTEND;TZID=America/Guatemala:20241115T180000
DTSTAMP:20260425T044659
CREATED:20241008T191559Z
LAST-MODIFIED:20241113T223932Z
UID:8476-1731657600-1731693600@iag.org.gt
SUMMARY:III Simposio Guatemalteco de Pavimentos Asfálticos.
DESCRIPTION:III Simposio Guatemalteco de Pavimentos Asfálticos.\nEl III Simposio Guatemalteco de Pavimentos Asfálticos es un evento de gran relevancia en la industria de la infraestructura vial en Guatemala. Este simposio reúne a expertos\, profesionales y líderes del sector para compartir conocimientos\, experiencias y avances tecnológicos en la construcción y mantenimiento de pavimentos asfálticos. \nDesafíos y Oportunidades en la Construcción de Carreteras.\n❝Rescate de la economía a través de la red vial nacional.❞\nEste simposio es una oportunidad única para estar al tanto de los desarrollos más recientes en la pavimentación asfáltica\, intercambiar ideas con colegas y establecer conexiones valiosas en la industria. \nObjetivos: \n\nIntercambio de Conocimientos: Facilitar el intercambio de conocimientos técnicos y experiencias prácticas entre los asistentes.\nInnovación y Tecnología: Presentar las últimas innovaciones y tecnologías aplicadas a la pavimentación asfáltica.\nRedes Profesionales: Fomentar el networking y las relaciones profesionales entre los participantes del evento.\nDesarrollo Profesional: Promover el desarrollo profesional continuo de los asistentes mediante talleres y conferencias especializadas.\n\n Destinatarios: \n\nIngenieros civiles y de caminos.\nContratistas y constructores.\nInvestigadores y académicos.\nProveedores de materiales y equipos.\nFuncionarios gubernamentales y tomadores de decisiones en infraestructura vial.\n\nGeneralidades:  \n\nDía: viernes 15 de noviembre de 2024\nHora: 8:00 am – 8: 00 pm\nLugar: Cámara Guatemalteca de la Construcción.\n\nEntrada:  \n\nPúblico General: Q 575.00  / $ 75\nSocios IAG: Q 450.00 / $ 60 \nEstudiantes: Q 325.00  / $ 40  (Carné vigente /licenciatura)\n\nIncluye: \n\nCoffee break am \nCoffee break pm\nAlmuerzo\nCoctel de cierre\nDiploma de participación\n\nQué encontrarás: \n\nConferencias magistrales\nNetworking\nStands y mucho más.\n\nInscripción: \nhttps://forms.gle/mi2YQdiFv888EHwc9 \nPatrocinios: \n\nOro: $ 2\,000.00\nPlata: $ 1\,500.00\nBronce: $ 1\,000.00\nJade: $ 500.00\n\nPara patrocinios comunicarse a: info@iag.org.gt / ebonilla@iag.org.gt  \n¡Reserve la fecha y aparte su espacio!
URL:https://iag.org.gt/event/simposio-iag/
LOCATION:Muxbal\, Guatemala\, Km. 8 Carretera a Muxbal\, Santa Catarina Pinula.\, Guatemala\, Santa Catarina Pinula\, 502\, Guatemala
CATEGORIES:Eventos
ATTACH;FMTTYPE=image/png:https://iag.org.gt/wp-content/uploads/2024/10/PRESENTACION-SIMPOSIO-2024-1.png
ORGANIZER;CN="IAG":MAILTO:capacitacion@iag.org.gt
END:VEVENT
END:VCALENDAR