BEGIN:VCALENDAR
VERSION:2.0
PRODID:-//Instituto del Asfalto de Guatemala - ECPv6.15.11//NONSGML v1.0//EN
CALSCALE:GREGORIAN
METHOD:PUBLISH
X-WR-CALNAME:Instituto del Asfalto de Guatemala
X-ORIGINAL-URL:https://iag.org.gt
X-WR-CALDESC:Eventos para Instituto del Asfalto de Guatemala
REFRESH-INTERVAL;VALUE=DURATION:PT1H
X-Robots-Tag:noindex
X-PUBLISHED-TTL:PT1H
BEGIN:VTIMEZONE
TZID:America/Guatemala
BEGIN:STANDARD
TZOFFSETFROM:-0600
TZOFFSETTO:-0600
TZNAME:CST
DTSTART:20250101T000000
END:STANDARD
END:VTIMEZONE
BEGIN:VEVENT
DTSTART;TZID=America/Guatemala:20260317T080000
DTEND;TZID=America/Guatemala:20260318T170000
DTSTAMP:20260423T144922
CREATED:20260304T174335Z
LAST-MODIFIED:20260304T182957Z
UID:9152-1773734400-1773853200@iag.org.gt
SUMMARY:Constructing Quality Asphalt Pavements. (Virtual)
DESCRIPTION:El ASPHALT INSTITUTE invita a su próximo seminario virtual: \nConstructing Quality Asphalt Pavements \nConstrucción de pavimentos asfálticos de calidad. \n🚧Los temas incluyen: \n\nInspección\nMateriales (agregados\, ligante asfáltico y mezclas asfálticas)\nProducción en planta\nPreparación del pavimento\nRiegos de adherencia\nTransporte en camiones\nColocación\nCompactación\nAseguramiento de la calidad.\n\nMás información visita: \nhttps://my.asphaltinstitute.org/Calendar-of-Events/Meeting-Home-Page?meetingid=%7B8ECE4D8E-8F8A-F011-B4CC-00224809E97B%7D \n \nHome \n \n  \n 
URL:https://iag.org.gt/event/constructing-quality-asphalt-pavements-virtual/
LOCATION:USA
CATEGORIES:Eventos
ATTACH;FMTTYPE=image/png:https://iag.org.gt/wp-content/uploads/2026/03/Untitled-design-72-scaled.png
END:VEVENT
END:VCALENDAR