BEGIN:VCALENDAR
VERSION:2.0
PRODID:-//Instituto del Asfalto de Guatemala - ECPv6.15.11//NONSGML v1.0//EN
CALSCALE:GREGORIAN
METHOD:PUBLISH
X-WR-CALNAME:Instituto del Asfalto de Guatemala
X-ORIGINAL-URL:https://iag.org.gt
X-WR-CALDESC:Eventos para Instituto del Asfalto de Guatemala
REFRESH-INTERVAL;VALUE=DURATION:PT1H
X-Robots-Tag:noindex
X-PUBLISHED-TTL:PT1H
BEGIN:VTIMEZONE
TZID:America/Guatemala
BEGIN:STANDARD
TZOFFSETFROM:-0600
TZOFFSETTO:-0600
TZNAME:CST
DTSTART:20250101T000000
END:STANDARD
END:VTIMEZONE
BEGIN:VEVENT
DTSTART;TZID=America/Guatemala:20260310T080000
DTEND;TZID=America/Guatemala:20260313T170000
DTSTAMP:20260423T144856
CREATED:20260309T215326Z
LAST-MODIFIED:20260310T221708Z
UID:9187-1773129600-1773421200@iag.org.gt
SUMMARY:17.° CONGRESO MUNDIAL DE LA VIALIDAD INVERNAL\, RESILIENCIA Y DESCARBONIZACIÓN DE LA CARRETERA
DESCRIPTION:17.° CONGRESO MUNDIAL DE LA VIALIDAD INVERNAL\, RESILIENCIA Y DESCARBONIZACIÓN DE LA CARRETERA\n10 – 13 MARZO 2026 – FRANCIA\nLa PIARC  Asociación Mundial de la Carretera invita a participar en el 17.º Congresos mundiales de la vialidad invernal\, resiliencia y descarbonización de la carretera\, que se celebrará del 10 al 13 de marzo de 2026 en el Parc des Expositions Savoiexpo de Chambéry\, Francia. \n\nEl objetivo de este congreso de 4 días es reunir a administraciones\, operadores de carreteras\, investigadores\, profesionales y académicos interesados en la vialidad invernal\, la resiliencia y la descarbonización de las infraestructuras de carreteras. Se trata de cuestiones importantes\, ya que todos -como representantes del transporte por carretera- nos enfrentamos a los retos del cambio climático. Por ello\, nuestro congreso está dirigido a todos los países del mundo\, sean cuales sean sus condiciones climáticas o su nivel de desarrollo económico. \nCongresos mundiales de la vialidad invernal\, resiliencia y descarbonización de la carretera es un evento internacional que se basa en el trabajo de los Comités Técnicos. Su objetivo es fomentar el intercambio de experiencias y mejores prácticas a nivel internacional\, e incluirá ponencias de expertos en carreteras\, académicos y profesionales de todo el mundo\, así como de las asociaciones internacionales asociadas a PIARC. Organizado cada cuatro años desde 1969\, el Congreso de Chambéry celebrará su 17ª edición. \n\nhttps://www.piarc-chambery2026.com/es
URL:https://iag.org.gt/event/17-congreso-mundial-de-la-vialidad-invernal-resiliencia-y-descarbonizacion-de-la-carretera/
LOCATION:Francia
CATEGORIES:Eventos
ATTACH;FMTTYPE=image/png:https://iag.org.gt/wp-content/uploads/2026/03/CHAMBERY-2026-.png
END:VEVENT
END:VCALENDAR