BEGIN:VCALENDAR
VERSION:2.0
PRODID:-//Instituto del Asfalto de Guatemala - ECPv6.15.11//NONSGML v1.0//EN
CALSCALE:GREGORIAN
METHOD:PUBLISH
X-WR-CALNAME:Instituto del Asfalto de Guatemala
X-ORIGINAL-URL:https://iag.org.gt
X-WR-CALDESC:Eventos para Instituto del Asfalto de Guatemala
REFRESH-INTERVAL;VALUE=DURATION:PT1H
X-Robots-Tag:noindex
X-PUBLISHED-TTL:PT1H
BEGIN:VTIMEZONE
TZID:America/Guatemala
BEGIN:STANDARD
TZOFFSETFROM:-0600
TZOFFSETTO:-0600
TZNAME:CST
DTSTART:20240101T000000
END:STANDARD
END:VTIMEZONE
BEGIN:VEVENT
DTSTART;TZID=America/Guatemala:20251124T100000
DTEND;TZID=America/Guatemala:20251125T120000
DTSTAMP:20260423T203725
CREATED:20251107T174259Z
LAST-MODIFIED:20251114T212854Z
UID:9031-1763978400-1764072000@iag.org.gt
SUMMARY:Seminario: Emulsiones Asfálticas & Mezclas en frío.
DESCRIPTION:Presentación:  \nEl seminario será impartido por especialistas en ingeniería de pavimentos y tecnología de materiales asfálticos\, quienes compartirán conocimientos teóricos y experiencias prácticas sobre el uso de emulsiones y mezclas en frío en distintos contextos de obra. \nSe discutirán aspectos relacionados con el diseño de formulaciones\, la selección de materiales\, los métodos de aplicación\, las condiciones óptimas de trabajo y los controles de calidad necesarios para garantizar resultados eficientes y duraderos. \nAsimismo\, se presentarán casos de estudio y ejemplos de proyectos exitosos que evidencian los beneficios técnicos\, económicos y ambientales del uso de estas tecnologías en la infraestructura vial moderna. \nObjetivo General:\nBrindar a los participantes los conocimientos fundamentales y prácticos sobre el uso de emulsiones asfálticas y mezclas en frío\, promoviendo su correcta aplicación en obras de pavimentación y mantenimiento vial bajo criterios de eficiencia y sostenibilidad. \nObjetivos Específicos: \n\nExplicar los fundamentos y clasificación de las emulsiones asfálticas.\nDescribir los procesos de diseño\, fabricación y aplicación de mezclas en frío.\nAnalizar las ventajas técnicas\, económicas y ambientales de estas tecnologías.\nPromover la implementación de buenas prácticas en la ejecución de obras viales.\nFomentar el uso de soluciones innovadoras que contribuyan al desarrollo sostenible del sector infraestructura.\n\nPonentes: \nIng. Alondra Vanessa López\, Mx 🇲🇽 / Emulsiones Asfálticas / Lunes 24 nov de 10:00-12:00 hrs. \n\nIngeniera Química egresada de la Universidad de Guadalajara\, con especialidad en ciencia de los polímeros.\nActualmente funge como Jefa del Laboratorio de Asfaltos en Asphalt Pavement and Construction Laboratories (APCL)\, donde dirige las actividades de control de calidad\, caracterización fisicoquímica y reológica de ligantes y emulsiones asfálticas\, así como el diseño e implementación de metodologías y protocolos técnicos enfocados en la mejora continua y la innovación en materiales.\nCuenta con amplia experiencia en proyectos de conservación y evaluación de pavimentos en colaboración con la Secretaría de Infraestructura\, Comunicaciones y Transportes (SICT)\, además de una sólida trayectoria como ponente en foros técnicos y científicos\, destacando su participación en diversas ediciones del Congreso Mexicano del Asfalto\, el Congreso Ibero-Latinoamericano del Asfalto (CILA) y eventos especializados en México y otros países de Latinoamérica\, donde ha presentado estudios sobre el comportamiento y desempeño de asfaltos modificados y la aplicación de nuevas tecnologías en pavimentación.\nEs miembro activo del Comité de Materiales Asfálticos de la Asociación Mexicana del Asfalto (AMAAC) y reconocida por su liderazgo\, ética profesional y compromiso con la calidad y sostenibilidad en la infraestructura vial.\n\nIng. Maricarmen Magaña.  Mx 🇲🇽 /  Mezclas en frío / Martes 25 nov de 10:00-12:00 hrs. \n\nIngeniera Civil por parte de la Universidad de Guadalajara\, cuenta con reconocimiento como diseñadora de mezclas asfálticas de mezclas de alto desempeño nivel 1 y 2 del protocolo AMAAC por la Asociación Mexicana del Asfalto y el instituto mexicano del transporte.\nSe desempeña como vocal del XIV Consejo directivo de la Asociación Mexicana del Asfalto AMAAC.\nMiembro del comité de mezclas asfálticas de la asociación mexicana del asfalto y del comité de vías terrestres del Colegio de Ingenieros Civiles del Estado de Jalisco.\nSe desempeña como jefe de laboratorio de mezclas y agregados en la empresa Asphalt Pavement & Construction Laboratories\,\nHa participado como conferencista en congresos nacionales e internacionales\, como ponente en diferentes cursos sobre mezclas asfálticas\, cuenta con artículos publicados y ha colaborado con diversas instituciones públicas y privadas en cursos de capacitación.\nEn el año 2024 fue reconocida al recibir el premio “Distinción CICEJ por parte del Colegio de Ingenieros Civiles del Estado de Jalisco en la categoría de tesis por el tema “EVALUACIÓN DE BAGAZO DE AGAVE COMO AGENTE ESTABILIZADOR DE ASFALTO EN EL DISEÑO DE UNA MEZCLA SMA”\n\nGeneralidades: \n\nFormato: Virtual\nPlataforma: Zoom\nDías: lunes 24 y martes 25 de noviembre 2025.\nHora: 10:00 am – 12:00 pm (Gt)\nInversión:\n\nSocios IAG: Q 250.00\nPúblico general: Q 350.00\nInternacional $ 45.00 USD (Dólares Americanos) /Para pagos internacionales comunicarse a:  +(502) 3039-1476\n\n\n\n\nDepósito o transferencia a cuenta:\n\nNombre: Instituto del Asfalto de Guatemala.\nBanco: Banco Industrial BI\nTipo de Cuenta: monetaria\nNúmero de Cuenta: 004-0054405\n\n\nIncluye:\n\nAcceso para ver las sesiones en el aula virtual IAG.\nDiploma de participación.\nPresentaciones.\nMaterial de apoyo.\nGrabaciones (Acceso privado)\n\n\nInscripción:\n\nhttps://forms.gle/zZNQCCaMAUJ8umCH9\n\n\n\n \nContenido:  \nCharla Emulsiones Asfálticas \n\nConceptos generales de emulsiones asfálticas: tamaño de partícula.\nImportancia del uso de emulsiones asfálticas\nTipos de aplicaciones de las emulsiones asfálticas: emulsiones rápidas\, lentas\, catiónicas\, aniónicas.\nPrincipales factores que inciden en la aplicación correcta en emulsiones asfálticas.\nControl de calidad de emulsiones asfálticas: fabricación\, almacenamiento.\nSugerencias para la producción\, transporte\, mantenimiento (agitación versus circulación).\nRecomendaciones para ampliar el tiempo de vida de la emulsión.\nPrecaución para el despacho  (galón\, caneca\, tonel\, cisterna).\nPrecauciones durante la fabricación y colocación de emulsiones asfálticas:\n\nMezclas prohibidas.\nFuentes de contaminación y\nBuenas prácticas\, en la colocación de emulsiones asfálticas.\nPreguntas y respuestas.\n\n\n\nCharla Mezcla Asfáltica en Frío \n\nDefinición.\nNaturaleza química y física de la mezcla fría.\nDiferencias entre mezcla fría y mezcla caliente.\nProcedimiento general para la fabricación\, almacenamiento y despacho de mezcla asfáltica en frío.\nVentajas y desventajas de la mezcla fría: experiencias del pasado.\nAplicaciones de mezcla fría. ¿Solamente se puede usar en bacheo?\nRequerimientos para una adecuada aplicación de mezcla fría.\nSustitución de la mezcla asfáltica en caliente\, por la mezcla asfáltica en frío; en las tareas de mantenimiento vial: Recomendaciones\, Experiencias de aplicaciones “longevas” en México.\nPreguntas y respuestas.\n\nCon el auspicio de: ASFALSUR \n¡Inscríbete y no te quedes fuera! \n  \n \n  \n 
URL:https://iag.org.gt/event/seminario-emulsiones-asfalticas-mezclas-en-frio/
LOCATION:Ciudad capital\, Guatemala\, Guatemala
CATEGORIES:Eventos
ATTACH;FMTTYPE=image/png:https://iag.org.gt/wp-content/uploads/2025/11/PORTADA-PAG-WEB-SEMINARIO-ASFALSUR-.png
END:VEVENT
END:VCALENDAR