BEGIN:VCALENDAR
VERSION:2.0
PRODID:-//Instituto del Asfalto de Guatemala - ECPv6.15.11//NONSGML v1.0//EN
CALSCALE:GREGORIAN
METHOD:PUBLISH
X-WR-CALNAME:Instituto del Asfalto de Guatemala
X-ORIGINAL-URL:https://iag.org.gt
X-WR-CALDESC:Eventos para Instituto del Asfalto de Guatemala
REFRESH-INTERVAL;VALUE=DURATION:PT1H
X-Robots-Tag:noindex
X-PUBLISHED-TTL:PT1H
BEGIN:VTIMEZONE
TZID:America/Guatemala
BEGIN:STANDARD
TZOFFSETFROM:-0600
TZOFFSETTO:-0600
TZNAME:CST
DTSTART:20240101T000000
END:STANDARD
END:VTIMEZONE
BEGIN:VEVENT
DTSTART;TZID=America/Guatemala:20250924T080000
DTEND;TZID=America/Guatemala:20250926T170000
DTSTAMP:20260424T025245
CREATED:20250526T160220Z
LAST-MODIFIED:20250526T203145Z
UID:8809-1758700800-1758906000@iag.org.gt
SUMMARY:V CONGRESO SALVADOREÑO DEL ASFALTO
DESCRIPTION:V CONGRESO SALVADOREÑO DEL ASFALTO\nEL Instituto Salvaroreño del Asfalto ISA  llevará a cabo su 5to Congreso Salvadoreño del Asfalto con el Tema: “El Salvador rueda sobre asfalto”. El congreso será un espacio de actualización técnica\, intercambio de experiencias y fortalecimiento del conocimiento en tecnologías asfálticas\, asegura el ISA en su página oficial.\n\n\n\nGeneralidades: \n\n\nFechas: 24-26 de septiembre de 2025\nLugar: Hotel Hilton Salón Pacífico.\nPrecios: $50.00 -$ 240.00\n\n\n\n\nPara más información visita:\n\n\n\n\nhttps://isa.com.sv/\n\nhttps://isa.com.sv/v-congreso-salvadoreno-del-asfalto/\n\n\n\nContacto: info@isa.com.sv
URL:https://iag.org.gt/event/v-congreso-salvadoreno-del-asfalto/
LOCATION:El Salvador\, San Salvador\, Hotel Hilton\, San Salvador
CATEGORIES:Eventos
ATTACH;FMTTYPE=image/png:https://iag.org.gt/wp-content/uploads/2025/05/Untitled-design-68.png
ORGANIZER;CN="ISA":MAILTO:info@isa.com.sv
END:VEVENT
END:VCALENDAR