BEGIN:VCALENDAR
VERSION:2.0
PRODID:-//Instituto del Asfalto de Guatemala - ECPv6.15.11//NONSGML v1.0//EN
CALSCALE:GREGORIAN
METHOD:PUBLISH
X-WR-CALNAME:Instituto del Asfalto de Guatemala
X-ORIGINAL-URL:https://iag.org.gt
X-WR-CALDESC:Eventos para Instituto del Asfalto de Guatemala
REFRESH-INTERVAL;VALUE=DURATION:PT1H
X-Robots-Tag:noindex
X-PUBLISHED-TTL:PT1H
BEGIN:VTIMEZONE
TZID:America/Guatemala
BEGIN:STANDARD
TZOFFSETFROM:-0600
TZOFFSETTO:-0600
TZNAME:CST
DTSTART:20240101T000000
END:STANDARD
END:VTIMEZONE
BEGIN:VEVENT
DTSTART;TZID=America/Guatemala:20250815T080000
DTEND;TZID=America/Guatemala:20250815T170000
DTSTAMP:20260424T055217
CREATED:20250715T224431Z
LAST-MODIFIED:20250813T171650Z
UID:8918-1755244800-1755277200@iag.org.gt
SUMMARY:SOSTENIBILIDAD E INNOVACIÓN EN LA INFRAESTRUCTURA VIAL
DESCRIPTION:SOSTENIBILIDAD E INNOVACIÓN EN LA INFRAESTRUCTURA VIAL\nComo iniciativa del Instituto Centro Americano del Asfalto ICA por sus siglas\, llevará a cabo su próximo seminario web con el tema: \n  \n“Sostenibilidad e innovación en la infraestructura vial.” \n  \n\nDetalles del evento: \n\n\n\nFecha\n15 de Agosto de 2025\n\nHora: \n5:00 hora Guatemala\n\n\n\n\n\n\nFormato:\n\n\n\n\nVirtual\n\n\n\n\n\n\n\nPlataforma:\n\n\n\n\nZoom\n\n\n\n\n\n\n\n\n\n\n\nUbicación\nCentro América.\n\n\n\nInscripción: https://us06web.zoom.us/webinar/register/WN_vOB21uJ9Q2KnqXqg43xO3g \n  \nUn evento que no te puedes perder! \n\nEspera más información en sus redes sociales y sitio web oficial del ICA.\n  \n \n  \n 
URL:https://iag.org.gt/event/sostenibilidad-e-innovacion-en-la-infraestructura-vial/
LOCATION:Centro América
CATEGORIES:Eventos
ATTACH;FMTTYPE=image/png:https://iag.org.gt/wp-content/uploads/2025/07/ICA-SEMINARIO-WEB-.png
END:VEVENT
END:VCALENDAR