BEGIN:VCALENDAR
VERSION:2.0
PRODID:-//Instituto del Asfalto de Guatemala - ECPv6.15.11//NONSGML v1.0//EN
CALSCALE:GREGORIAN
METHOD:PUBLISH
X-WR-CALNAME:Instituto del Asfalto de Guatemala
X-ORIGINAL-URL:https://iag.org.gt
X-WR-CALDESC:Eventos para Instituto del Asfalto de Guatemala
REFRESH-INTERVAL;VALUE=DURATION:PT1H
X-Robots-Tag:noindex
X-PUBLISHED-TTL:PT1H
BEGIN:VTIMEZONE
TZID:America/Guatemala
BEGIN:STANDARD
TZOFFSETFROM:-0600
TZOFFSETTO:-0600
TZNAME:CST
DTSTART:20240101T000000
END:STANDARD
END:VTIMEZONE
BEGIN:VEVENT
DTSTART;TZID=America/Guatemala:20250715T153000
DTEND;TZID=America/Guatemala:20250715T170000
DTSTAMP:20260424T055213
CREATED:20250715T223012Z
LAST-MODIFIED:20250715T223320Z
UID:8910-1752593400-1752598800@iag.org.gt
SUMMARY:Ley de Infraestructura Vial.
DESCRIPTION:La CGC invita a su próximo evento:  Ley de Infraestructura Vial. Un espacio para conocer a fondo los alcances de esta Ley y su impacto en el desarrollo vial del país. \n\n\n\n\n\n\nDetalles del evento:\n\n\n\n\n\n\n\nFecha\n02 de Julio de 2025\n\n\n\n\n\n\n\n\n\n\n\n\n\n\n\n\n\n\n\n\n\nHora\n15:30 hrs.\n\n\n\nLugar\nCámara Guatemalteca de la Construcción\n\n\n\n\n\n\nInscripción\nhttps://forms.gle/YDRDSGQN523odpdj9\n\n\n\nMás información\nWhatsApp 5015-5858\n\nhttps://www.facebook.com/share/p/1LWzuS7o9C/\n\n\nFuente: https://www.facebook.com/photo/?fbid=1112698730889903&set=a.480285314131251
URL:https://iag.org.gt/event/ley-de-infraestructura-vial/
LOCATION:Ciudad capital\, Guatemala\, Guatemala
CATEGORIES:Eventos
ATTACH;FMTTYPE=image/jpeg:https://iag.org.gt/wp-content/uploads/2025/07/LEY-DE-INFRAESTRUCTURA-VIAL-e1752618695392.jpg
END:VEVENT
END:VCALENDAR