BEGIN:VCALENDAR
VERSION:2.0
PRODID:-//Instituto del Asfalto de Guatemala - ECPv6.15.11//NONSGML v1.0//EN
CALSCALE:GREGORIAN
METHOD:PUBLISH
X-ORIGINAL-URL:https://iag.org.gt
X-WR-CALDESC:Eventos para Instituto del Asfalto de Guatemala
REFRESH-INTERVAL;VALUE=DURATION:PT1H
X-Robots-Tag:noindex
X-PUBLISHED-TTL:PT1H
BEGIN:VTIMEZONE
TZID:America/Guatemala
BEGIN:STANDARD
TZOFFSETFROM:-0600
TZOFFSETTO:-0600
TZNAME:CST
DTSTART:20240101T000000
END:STANDARD
END:VTIMEZONE
BEGIN:VEVENT
DTSTART;TZID=America/Guatemala:20250701T140000
DTEND;TZID=America/Guatemala:20250701T150000
DTSTAMP:20260424T070904
CREATED:20250715T221307Z
LAST-MODIFIED:20250715T222617Z
UID:8898-1751378400-1751382000@iag.org.gt
SUMMARY:Seguridad vial: desde el diseño geométrico hasta la correcta señalización de una carretera.
DESCRIPTION:La USAC-Facultad de Ingeniería junto con la Radio Universitaria Universidad 92.1 FM (Guatemala) invitan a su próximo programa radial: Ingeniería Siglo XXI donde se tendrá la participación de nuestros socios Arq. Eduardos Cabarrús junto con el Ing. Darío Lucas donde abordarán el tema del día: \n\nSeguridad vial: desde el diseño geométrico hasta la correcta señalización de una carretera.\n\n\n\n\n\n\n\nDetalles del evento:\n\n\n\n\n\n\n\nFecha\n01 de Julio de 2025\n\n\n\nHora\n14 hrs. Guatemala\n\n\n\n\n\n\n\n\n\n\n\nFormato \nPodcast Transmisión en vivo Fb Live Radio Universidad / Estación Radial 92.1 fm frecuencia FM\n\n\n\n\n\n\n\n\n\n\n\n\n\nUbicación\nCiudad capital\, Guatemala\n\n\n\n\n\n\nMás información\nhttps://www.facebook.com/photo?fbid=1151359340364149&set=a.671034151730006\n\n\n\n\n\n\nUna charla imperdible sobre cómo la infraestructura y el diseño influyen directamente en salvar vidas en las vías.\n\n\n\n\n\n\n\n\n 
URL:https://iag.org.gt/event/seguridad-vial-desde-el-diseno-geometrico-hasta-la-correcta-senalizacion-de-una-carretera/
CATEGORIES:Eventos
ATTACH;FMTTYPE=image/jpeg:https://iag.org.gt/wp-content/uploads/2025/07/511272016_1151359350364148_5727352071890905096_n-1-e1752618370859.jpg
END:VEVENT
END:VCALENDAR