BEGIN:VCALENDAR
VERSION:2.0
PRODID:-//Instituto del Asfalto de Guatemala - ECPv6.15.11//NONSGML v1.0//EN
CALSCALE:GREGORIAN
METHOD:PUBLISH
X-WR-CALNAME:Instituto del Asfalto de Guatemala
X-ORIGINAL-URL:https://iag.org.gt
X-WR-CALDESC:Eventos para Instituto del Asfalto de Guatemala
REFRESH-INTERVAL;VALUE=DURATION:PT1H
X-Robots-Tag:noindex
X-PUBLISHED-TTL:PT1H
BEGIN:VTIMEZONE
TZID:America/Guatemala
BEGIN:STANDARD
TZOFFSETFROM:-0600
TZOFFSETTO:-0600
TZNAME:CST
DTSTART:20240101T000000
END:STANDARD
END:VTIMEZONE
BEGIN:VEVENT
DTSTART;TZID=America/Guatemala:20250507T080000
DTEND;TZID=America/Guatemala:20250508T170000
DTSTAMP:20260424T095815
CREATED:20250423T231651Z
LAST-MODIFIED:20250423T231811Z
UID:8742-1746604800-1746723600@iag.org.gt
SUMMARY:SEMINARIO 80 ANIVERSARIO CPA - Comisión Permanente del Asfalto
DESCRIPTION:SEMINARIO 80 ANIVERSARIO CPA\n  \nLa Comisión Permanente del Asfalto CPA de Argentina llevará a cabo su 80 Seminario en la Ciudad de Córdova. Una jornada técnica con duración de 2 días\, donde se contará con ponentes de distintos países como: España\, Brasil\, Chile\, Argentina\, entre otros. \n  \nPara mayor información del programa visite: \nSeminario 80° Aniversario CPA \n \nInscripciónes: https://www.eventbrite.com/e/seminario-80-aniversario-cpa-tickets-1322774376769?aff=oddtdtcreator \n  \nMayor información visita: \nhttps://cpasfalto.com.ar/eventos/seminario-80-aniversario-cpa/ \n  \n  \n \n 
URL:https://iag.org.gt/event/seminario-80-aniversario-cpa/
LOCATION:Córdoba\, Argentina.
CATEGORIES:Eventos
ATTACH;FMTTYPE=image/jpeg:https://iag.org.gt/wp-content/uploads/2025/04/CPA.jpg
END:VEVENT
END:VCALENDAR