BEGIN:VCALENDAR
VERSION:2.0
PRODID:-//Instituto del Asfalto de Guatemala - ECPv6.15.11//NONSGML v1.0//EN
CALSCALE:GREGORIAN
METHOD:PUBLISH
X-ORIGINAL-URL:https://iag.org.gt
X-WR-CALDESC:Eventos para Instituto del Asfalto de Guatemala
REFRESH-INTERVAL;VALUE=DURATION:PT1H
X-Robots-Tag:noindex
X-PUBLISHED-TTL:PT1H
BEGIN:VTIMEZONE
TZID:America/Guatemala
BEGIN:STANDARD
TZOFFSETFROM:-0600
TZOFFSETTO:-0600
TZNAME:CST
DTSTART:20240101T000000
END:STANDARD
END:VTIMEZONE
BEGIN:VEVENT
DTSTART;TZID=America/Guatemala:20250331T080000
DTEND;TZID=America/Guatemala:20250331T093000
DTSTAMP:20260424T110805
CREATED:20250407T205907Z
LAST-MODIFIED:20250407T205907Z
UID:8569-1743408000-1743413400@iag.org.gt
SUMMARY:Webinar IRF: Gestión y Evaluación de Pavimentos.
DESCRIPTION:Webinar IRF: Gestión y Evaluación de Pavimentos.La Federación Internacional de Carreteras (IRF) International Road Federation – IRF Global está organizando un próximo webinar sobre Gestión y Evaluación de Pavimentos\, moderado por Alex Campbell (AnyWay). Esta sesión presentará enfoques innovadores y rentables para la gestión de pavimentos\, con un énfasis en el uso de datos para optimizar la sostenibilidad\, seguridad y eficiencia en la planificación de infraestructura.Día: Lunes 31 de marzoHora: 8:00 AM – 9:30 AM CST10:00 AM – 11:30 AM EST | 4:00 PM – 5:30 PM CESTFormato Digital.Sin costoInscripción: https://register.gotowebinar.com/regi…/1682208156711227735 \n 
URL:https://iag.org.gt/event/webinar-irf-gestion-y-evaluacion-de-pavimentos/
LOCATION:USA
CATEGORIES:Eventos
ATTACH;FMTTYPE=image/jpeg:https://iag.org.gt/wp-content/uploads/2025/04/486078631_1108192944654694_5601182654981353539_n.jpg
END:VEVENT
END:VCALENDAR