BEGIN:VCALENDAR
VERSION:2.0
PRODID:-//Instituto del Asfalto de Guatemala - ECPv6.15.11//NONSGML v1.0//EN
CALSCALE:GREGORIAN
METHOD:PUBLISH
X-ORIGINAL-URL:https://iag.org.gt
X-WR-CALDESC:Eventos para Instituto del Asfalto de Guatemala
REFRESH-INTERVAL;VALUE=DURATION:PT1H
X-Robots-Tag:noindex
X-PUBLISHED-TTL:PT1H
BEGIN:VTIMEZONE
TZID:America/Guatemala
BEGIN:STANDARD
TZOFFSETFROM:-0600
TZOFFSETTO:-0600
TZNAME:CST
DTSTART:20240101T000000
END:STANDARD
END:VTIMEZONE
BEGIN:VEVENT
DTSTART;TZID=America/Guatemala:20250403T050000
DTEND;TZID=America/Guatemala:20250403T080000
DTSTAMP:20260424T094616
CREATED:20250407T211950Z
LAST-MODIFIED:20250407T215318Z
UID:8582-1743656400-1743667200@iag.org.gt
SUMMARY:Foro Internacional: ❝Día Internacional de la Conservación de Carreteras❞
DESCRIPTION:Foro Internacional: ❝Día Internacional de la Conservación de Carreteras❞ (IRMD\, por sus siglas en inglés) International Road Maintenance Day \n\nEl objetivo de reducción de las emisiones de CO2 se ha convertido en un elemento central de la política mundial y europea. Europa se ha comprometido a reducir las emisiones de CO2\, con el objetivo de lograr una reducción del 55% para 2030 y la neutralidad de carbono para 2050. En este escenario\, el sector del transporte ha sido identificado como uno de los que más CO2 produce. Con más del 90% de las carreteras europeas pavimentadas con asfalto\, la industria del asfalto tiene potencial para reducir significativamente las emisiones. \n  \nUn mantenimiento adecuado puede dar lugar a superficies más duraderas y con mejor rodadura superficie\, reduciendo el consumo de combustible y las emisiones de CO2 hasta en un 5%. Esto equivale a un ahorro anual de 14 millones de toneladas de CO2 o el equivalente a retirar 3 millones de coches de las carreteras. Además\, las carreteras en buen estado benefician también a los vehículos eléctricos\, reducen el ruido del tráfico\, mejoran el tiempo de viaje y disminuyen los costes de mantenimiento de los vehículos. Además\, la reciclabilidad del asfalto se ajusta a los principios de la economía circular. A pesar de estos beneficios\, el mantenimiento de las carreteras se enfrenta a retos presupuestarios y tecnológicos. El establecimiento de un Foro Europeo de Conservación de Carreteras #ERMF2025 proporciona una plataforma de colaboración para abordar estas cuestiones. Asegura ITAFEC en su página Oficial  \n  \n\n\n\nGENERALIDADES:\n \n\nDía: miércoles 3 de abril\nHora: Hora Inicio: 9:45- Hora Fin: 12:30-Hora local: Madrid\nHora Guatemala: 5:00 am – 8:00 am\nFormato: Digital\n\nPrecio: €0\,00\nInscripción: https://www.itafec.com/eventos/irmd-2025\nPágina web: http://roadmaintenanceday.org/\n\n\n\n  \n \n  \n\n\nInternational Road Maintenance Day/ miércoles 3 de abril  http://roadmaintenanceday.org/
URL:https://iag.org.gt/event/foro-internacional-%e2%9d%9ddia-internacional-de-la-conservacion-de-carreteras%e2%9d%9e/
LOCATION:Brussels\, Belgium.
CATEGORIES:Eventos
ATTACH;FMTTYPE=image/jpeg:https://iag.org.gt/wp-content/uploads/2025/04/487993696_1114198370720818_5489553958900125156_n-2.jpg
END:VEVENT
BEGIN:VEVENT
DTSTART;TZID=America/Guatemala:20250403T090000
DTEND;TZID=America/Guatemala:20250405T150000
DTSTAMP:20260424T094616
CREATED:20250407T210930Z
LAST-MODIFIED:20250407T215210Z
UID:8577-1743670800-1743865200@iag.org.gt
SUMMARY:EXPO MAQUINARIA 2025 / PANAMÁ
DESCRIPTION:La expo más importante de la región\nEn la octava edición de la más grande exposición comercial para insumos\, herramientas\, equipos\, maquinarias\, infraestructuras y servicios de los sectores Construcción\, Industrial\, Logístico\, Marítimo\, Agrícola y Energía. Participa de las CONFERENCIAS GRATUITAS por expertos de las industrias y las DEMOSTRACIONES EN VIVO de equipos y nuevas tecnologías. \n\nDel 3 al 5 de abril de 2025\nPanama Convention Center. Ciudad de Panamá\nhttps://expomaquina.org/visitantes/\n\n \n\nEXPO MAQUINARIA 2025 / PANAMÁ / 3 de abril de 2025 Panama Convention Center. Ciudad de Panamá/  https://expomaquina.org/visitantes/
URL:https://iag.org.gt/event/expo-maquinaria-2025-panama/
LOCATION:Ciudad de Panamá\, Panamá
CATEGORIES:Eventos
ATTACH;FMTTYPE=image/png:https://iag.org.gt/wp-content/uploads/2025/04/463412613_563713206171735_8642468891006441856_n.png
END:VEVENT
BEGIN:VEVENT
DTSTART;TZID=America/Guatemala:20250407T080000
DTEND;TZID=America/Guatemala:20250407T170000
DTSTAMP:20260424T094616
CREATED:20250407T221057Z
LAST-MODIFIED:20250407T221057Z
UID:8616-1744012800-1744045200@iag.org.gt
SUMMARY:ANÁLISIS DE SUELOS Y ASFALTOS: Servicios especializados para una infraestructura eficiente\, sostenible y segura
DESCRIPTION:ANÁLISIS DE SUELOS Y ASFALTOS:\n\nServicios especializados para una infraestructura eficiente\, sostenible y segura.\n\n\n\n \n\n\n Transmisión en vivo Fb Live Radio Universidad\n Estación Radial 92.1 fm frecuencia FM\n \nhttps://www.facebook.com/100063518830842/videos/1455098548793519\n\n\nGENERALIDADES: \n\n\nDía: 01 de abril de 2025\nHora: 2:00 pm – 3: 00 pm\nFormato: Virtual\nPlataforma: Fb Live
URL:https://iag.org.gt/event/analisis-de-suelos-y-asfaltos-servicios-especializados-para-una-infraestructura-eficiente-sostenible-y-segura/
CATEGORIES:Eventos
ATTACH;FMTTYPE=image/jpeg:https://iag.org.gt/wp-content/uploads/2025/04/487314587_1081920803974670_8000848742317545464_n2222.jpg
END:VEVENT
BEGIN:VEVENT
DTSTART;TZID=America/Guatemala:20250407T080000
DTEND;TZID=America/Guatemala:20250417T170000
DTSTAMP:20260424T094616
CREATED:20250407T220455Z
LAST-MODIFIED:20250407T220643Z
UID:8609-1744012800-1744909200@iag.org.gt
SUMMARY:IRF: Gestión e inspección de puentes.
DESCRIPTION:Gestión e inspección de puentes\nEste taller de capacitación en línea abordará los principales aspectos técnicos de la gestión\, inspección y mantenimiento de puentes. El contenido se basará en estándares internacionales y en la experiencia práctica de los instructores. El taller está dirigido a ejecutivos de agencias viales y contratistas del sector privado. Los temas del taller abarcan desde los conocimientos básicos de los puentes de carretera y sus características principales\, pasando por las actividades de inspección visual\, hasta los conceptos más actualizados de la gestión de activos de puentes. \nLas clases se impartirán durante dos semanas con sesiones en línea en vivo de dos horas\, de lunes a jueves. Al finalizar el programa de capacitación\, el IRF realizará una prueba de conocimientos en línea. El IRF colaborará con cada participante para garantizar su aprobación. \n\nIRF: Gestión e inspección de puentes https:/ /www.irf.global/event/brm25-online-training/ \n  \n \nBridge Management & Inspection
URL:https://iag.org.gt/event/irf-gestion-e-inspeccion-de-puentes-https-www-irf-global-event-brm25-online-training/
LOCATION:USA
CATEGORIES:Eventos
ATTACH;FMTTYPE=image/png:https://iag.org.gt/wp-content/uploads/2025/04/IRF-2025-2.png
END:VEVENT
BEGIN:VEVENT
DTSTART;TZID=America/Guatemala:20250407T140000
DTEND;TZID=America/Guatemala:20250407T153000
DTSTAMP:20260424T094616
CREATED:20250407T205343Z
LAST-MODIFIED:20250407T214852Z
UID:8564-1744034400-1744039800@iag.org.gt
SUMMARY:WEBINAR NAPA: Economía circular y cómo afecta a la industria del pavimento asfáltico.
DESCRIPTION:WEBINAR NAPA: Economía circular y cómo afecta a la industria del pavimento asfáltico \n\nComprender la diferencia entre economía circular y economía lineal.\nDesarrollar un conocimiento de las tendencias de la industria y los impulsores del mercado.\nTomar conciencia de cómo el asfalto juega un papel en la economía circular\n\nEsta sesión ayudará a los productores de asfalto a comprender cómo aprovechar este valioso recurso para implementar con éxito la BMD en su estado o cumplir con los criterios establecidos por su agencia si ya la tienen. Aprenda técnicas y estrategias prácticas para garantizar que sus mezclas asfálticas estén diseñadas para alcanzar el rendimiento y la durabilidad deseados. \nPresentadores / Moderadores \n\nNathan Moore\, PE\, subdirector de investigación de pistas de prueba\, Centro Nacional de Tecnología del Asfalto (NCAT) de la Universidad de Auburn\nBrett Williams\, Director Sénior de Ingeniería y Servicios Técnicos\, NAPA\n\n \n\nNational Asphalt Pavement Association / 7 de mayo de 2025\, 14:00 – 15:30 ET / Estrategias de evaluación comparativa de BMD para productores / https://www.asphaltpavement.org/programs/napa-webinars
URL:https://iag.org.gt/event/economia-circular-y-como-afecta-a-la-industria-del-pavimento-asfaltico/
LOCATION:Waahington\, DC\, USA
CATEGORIES:Eventos,Webinar
ATTACH;FMTTYPE=image/png:https://iag.org.gt/wp-content/uploads/2025/04/040725_webinar_330_1-e1744059609125.png
END:VEVENT
BEGIN:VEVENT
DTSTART;TZID=America/Guatemala:20250428T080000
DTEND;TZID=America/Guatemala:20250430T170000
DTSTAMP:20260424T094616
CREATED:20250407T214531Z
LAST-MODIFIED:20250407T214831Z
UID:8589-1745827200-1746032400@iag.org.gt
SUMMARY:"Seminario Internacional "Las Carreteras Como Catalizadores del Desarrollo Sostenible e Inclusivo"
DESCRIPTION:“Seminario Internacional “Las Carreteras Como Catalizadores del Desarrollo Sostenible e Inclusivo”\nOrganizado por la PIARC – Asociación Mundial de la Carretera en conjunto con la AMIVTAC Asociación Mexicana Ingeniería de Vías Terrestres\, A.C \nPIARC\, la Asociación Mundial de la Carretera\, es una organización sin fines de lucro fundada en 1909. A lo largo de sus más de 100 años de historia\, el principal objetivo de la Asociación ha sido promover la cooperación internacional y el intercambio de conocimientos sobre temas relacionados con las carreteras y el transporte por carretera. Como parte de este trabajo\, desde 1999 PIARC ha llevado a cabo un programa de seminarios internacionales con el propósito de fortalecer su presencia en el mundo\, ser más receptiva a las necesidades de los países en desarrollo y los países con economías en transición\, y lograr una mayor difusión en estos países de los resultados de su labor. PIARC implementa el programa de seminarios a través de sus Comités Técnicos\, que son grupos de expertos designados por los países miembros para trabajar en temas definidos en el plan estratégico de la Asociación. Este plan abarca áreas muy diversas del conocimiento\, como el diseño\, la operación y el mantenimiento de carreteras\, así como la financiación y la gobernanza de las agencias responsables de la infraestructura vial. \n  \n \n  \n\n“Seminario Internacional “Las Carreteras Como Catalizadores del Desarrollo Sostenible e Inclusivo” /  28 al 30 de abril\, Guadalajara\, Jalisco / https://piarcmexicoseminar.cue.plus/
URL:https://iag.org.gt/event/seminario-internacional-las-carreteras-como-catalizadores-del-desarrollo-sostenible-e-inclusivo/
LOCATION:Guadalajara\, Jalisco. México.
CATEGORIES:Eventos
ATTACH;FMTTYPE=image/png:https://iag.org.gt/wp-content/uploads/2025/04/AMIVTAC-REVISTA2.png
END:VEVENT
END:VCALENDAR