BEGIN:VCALENDAR
VERSION:2.0
PRODID:-//Instituto del Asfalto de Guatemala - ECPv6.15.11//NONSGML v1.0//EN
CALSCALE:GREGORIAN
METHOD:PUBLISH
X-ORIGINAL-URL:https://iag.org.gt
X-WR-CALDESC:Eventos para Instituto del Asfalto de Guatemala
REFRESH-INTERVAL;VALUE=DURATION:PT1H
X-Robots-Tag:noindex
X-PUBLISHED-TTL:PT1H
BEGIN:VTIMEZONE
TZID:America/Guatemala
BEGIN:STANDARD
TZOFFSETFROM:-0600
TZOFFSETTO:-0600
TZNAME:CST
DTSTART:20230101T000000
END:STANDARD
END:VTIMEZONE
BEGIN:VEVENT
DTSTART;TZID=America/Guatemala:20240730T080000
DTEND;TZID=America/Guatemala:20240802T170000
DTSTAMP:20260424T212359
CREATED:20240614T185814Z
LAST-MODIFIED:20240614T194655Z
UID:8312-1722326400-1722618000@iag.org.gt
SUMMARY:12th IRF Caribbean Regional Congress
DESCRIPTION:“Una hoja de ruta hacia un sistema de transporte seguro\, inclusivo y resiliente.”\nEl próximo 30 de julio se llevará a cabo el duodécimo  Congreso Regional del Caribe organizado por la Fereración Internacional del Transporte IRF por sus siglas en ingles International Road Federation. \nSe abordaran los desafíos apremiantes que enfrenta el Caribe\, que abarcan la seguridad vial\, la resiliencia climática y los requisitos de infraestructura que acompañan al auge de los vehículos eléctricos. Los temas clave del evento incluyen: \n\nInversiones en infraestructura y financiamiento innovador: exploración de enfoques creativos para financiar y desarrollar infraestructura vial en el Caribe.\nSeguridad Vial: Mejorar las medidas y prácticas de seguridad vial para proteger a todos los usuarios de la vía.\nOfrecer infraestructura y servicios viales resilientes e inclusivos: garantizar que las carreteras puedan resistir los desafíos ambientales y continuar sirviendo a las comunidades de manera efectiva.\nIntegración y Cooperación Regional: Promover la colaboración entre las naciones del Caribe para optimizar las redes de transporte.\nGestión de activos viales: gestionar de manera eficiente los activos viales para extender su vida útil y reducir los costos de mantenimiento.\nDescarbonización del transporte por carretera: abordar la transición hacia opciones de transporte eléctrico y sostenible.\nCreación de capacidad en los ministerios de obras públicas del Caribe: Fortalecimiento de las capacidades de los ministerios de obras públicas para satisfacer las demandas de infraestructura en evolución.\n\n  \nEl evento se llevará a cabo en Puerto Rico del 30 de julio al 2 de agosto del presente año. \nSi desea mayor información del evento visite el siguiente enlace: \nhttps://www.irf.global/event/12th-crc/ \n\n  \n  \n 
URL:https://iag.org.gt/event/12th-irf-caribbean-regional-congress/
LOCATION:Puerto Rico
CATEGORIES:Eventos
ATTACH;FMTTYPE=image/png:https://iag.org.gt/wp-content/uploads/2024/06/EVENTOS-PAG-IAG-1.png
END:VEVENT
BEGIN:VEVENT
DTSTART;TZID=America/Guatemala:20240808T080000
DTEND;TZID=America/Guatemala:20240809T170000
DTSTAMP:20260424T212359
CREATED:20240812T212020Z
LAST-MODIFIED:20240812T213206Z
UID:8350-1723104000-1723222800@iag.org.gt
SUMMARY:AMIVTAC - Simposio-Taller Internacional sobre la cal en vías terrestres.
DESCRIPTION:Simposio-Taller Internacional sobre la cal en vías terrestres. \n  \nPresentación: \nLa Asociación Mexicana de Ingeniería de Vías Terrestres AMIVTAC llevará a cabo su Simposio-Taller Internacional sobre la cal en vías terrestres. \n  \nObjetivo: \nEl evento reunirá a destacados expertos en el campo\, donde compartirán sus conocimientos y  experiencias sobre la importancia de cal en vías terrestres y la estabilización de suelos. \n  \nGeneralidades:  \nDías: 8 y 9 de agosto 2024 \nHora: 8:00 am – 6:00 pm  \nLugar: México \nModalidad: Presencial y virtual. \nPrecio Virtual: Sin costo \nTransmisión en vivo:  \nhttps://linktr.ee/amivtacmxlt_utm_source=lt_admin_share_link#401903837  \n  \nPonentes:  \nhttps://calidrasimposio.com/ \nPrograma: Si desea mayor información del evento visite el siguiente enlace: \nhttps://amivtac.com/evento-simposio-taller-internacional-cal/
URL:https://iag.org.gt/event/amivtac-simposio-taller-internacional-sobre-la-cal-en-vias-terrestres/
LOCATION:Mexico
CATEGORIES:Eventos
ATTACH;FMTTYPE=image/jpeg:https://iag.org.gt/wp-content/uploads/2024/08/452658787_18419927335068792_5229748399503412025_n-e1723498058819.jpg
END:VEVENT
END:VCALENDAR