BEGIN:VCALENDAR
VERSION:2.0
PRODID:-//Instituto del Asfalto de Guatemala - ECPv6.15.11//NONSGML v1.0//EN
CALSCALE:GREGORIAN
METHOD:PUBLISH
X-WR-CALNAME:Instituto del Asfalto de Guatemala
X-ORIGINAL-URL:https://iag.org.gt
X-WR-CALDESC:Eventos para Instituto del Asfalto de Guatemala
REFRESH-INTERVAL;VALUE=DURATION:PT1H
X-Robots-Tag:noindex
X-PUBLISHED-TTL:PT1H
BEGIN:VTIMEZONE
TZID:America/Guatemala
BEGIN:STANDARD
TZOFFSETFROM:-0600
TZOFFSETTO:-0600
TZNAME:CST
DTSTART:20250101T000000
END:STANDARD
END:VTIMEZONE
BEGIN:VEVENT
DTSTART;TZID=America/Guatemala:20260409T103000
DTEND;TZID=America/Guatemala:20260409T130000
DTSTAMP:20260423T130238
CREATED:20260407T215134Z
LAST-MODIFIED:20260407T215134Z
UID:9215-1775730600-1775739600@iag.org.gt
SUMMARY:Día Internacional de la Conservación de Carreteras
DESCRIPTION:❝Día Internacional de la Conservación de Carreteras❞ \n¡El mantenimiento de las carreteras importa! –  \n¡Transmisión en directo desde Bruselas! \n(IRMD\, por sus siglas en inglés) International Road Maintenance Day \nRoad Maintenance Matters conmemorará el  Día Internacional del Mantenimiento de Carreteras (IRMD\, por sus siglas en inglés) con una sesión en línea en directo el 9 de abril de 2026 \, reuniendo a ponentes expertos para concienciar y debatir sobre cuestiones clave que afectan al mantenimiento de carreteras en toda Europa. \nOrganizado por la Asociación Europea de Pavimentos Asfálticos (EAPA) en colaboración con el Foro Europeo de Mantenimiento de Carreteras (ERMF) \, el evento destaca el importante papel del mantenimiento adecuado de las carreteras para reducir las emisiones de CO₂ y apoyar sistemas de transporte más sostenibles. \nDado que la UE se ha propuesto reducir las emisiones de gases de efecto invernadero en un 55 % para 2030 y alcanzar la neutralidad climática para 2050 \, el sector vial desempeña un papel crucial. Unas carreteras bien mantenidas pueden reducir el consumo de combustible y las emisiones de CO₂ hasta en un 5 % \, al tiempo que mejoran las condiciones de viaje y fomentan las prácticas de economía circular. \nPonentes\, periodistas y un pequeño número de invitados se reunirán en la oficina de la EAPA en Bruselas \, mientras que los participantes de todo el mundo podrán unirse a la sesión en línea . \n  \nLa participación es gratuita (se requiere inscripción) . \nRegístrate aquí. \n\nAsistencia únicamente en línea. \nInformación obtenida en: https://eapa.org/2026-international-road-maintanance-day-irmd/\n \n  \n\nDía: miércoles 9 de abril\nHora::10:30 a 13:00\nFormato: Digital\nPrecio:  €0\,00\nInscripción: https://eapa.org/2026-international-road-maintanance-day-irmd/\nPágina web: https://eapa.org/event/road-maintenance-matters-live-streamed-from-brussels/\n\n  \n  \n 
URL:https://iag.org.gt/event/dia-internacional-de-la-conservacion-de-carreteras/
LOCATION:Europa
CATEGORIES:Eventos
ATTACH;FMTTYPE=image/jpeg:https://iag.org.gt/wp-content/uploads/2026/04/IRMD2026JPG.jpeg
END:VEVENT
END:VCALENDAR