BEGIN:VCALENDAR
VERSION:2.0
PRODID:-//Instituto del Asfalto de Guatemala - ECPv6.15.11//NONSGML v1.0//EN
CALSCALE:GREGORIAN
METHOD:PUBLISH
X-ORIGINAL-URL:https://iag.org.gt
X-WR-CALDESC:Eventos para Instituto del Asfalto de Guatemala
REFRESH-INTERVAL;VALUE=DURATION:PT1H
X-Robots-Tag:noindex
X-PUBLISHED-TTL:PT1H
BEGIN:VTIMEZONE
TZID:America/Guatemala
BEGIN:STANDARD
TZOFFSETFROM:-0600
TZOFFSETTO:-0600
TZNAME:CST
DTSTART:20250101T000000
END:STANDARD
END:VTIMEZONE
BEGIN:VEVENT
DTSTART;TZID=America/Guatemala:20260314T080000
DTEND;TZID=America/Guatemala:20260314T170000
DTSTAMP:20260423T143918
CREATED:20260304T184433Z
LAST-MODIFIED:20260304T194035Z
UID:9169-1773475200-1773507600@iag.org.gt
SUMMARY:Taller Práctico. Buenas prácticas en trabajos de construcción.
DESCRIPTION:La Cámara Guatemalteca de la construcción conjunto con la Asociación de Industria Comercio y Servicios para la Construcción – ICS invita a su próximo evento: \n\nTaller Práctico. Buenas prácticas en trabajos de construcción. \nImpartido por mujeres y diseñado especialmente para mujeres. Un espacio de formación que impulsa el aprendizaje\, el crecimiento profesional y el fortalecimiento técnico dentro de la industria de la construcción.\n\n\nDirigido amujeres:\n\nIngenieras\nArquitectas\nSupervisoras\nProfesionales\n\nDel sector construcción que deseen reforzar sus criterios técnicos y elevar la calidad en sus proyectos. \nDurante la jornada se abordarán temas como: \n\nBuenas prácticas en trabajos de construcción\nCorrecta instalación de materiales en obra\nAplicación de normas técnicas y criterios de calidad\n\n  \nGENERALIDADES: \n\nFormato: Presencial\nLugar: CGC\nDía: 14 de marzo de 2026\nHora: 7:30 am – 1:30 pm\nCapacitación gratuita\nCupo limitado\nMás detalles:  https://forms.gle/ZvnkVd9hCLeW1wXN6\n\nInformación: \n+502 3075 4710 \n ics@construguate.com \nFuente: https://www.facebook.com/share/p/18PhgetN5g/
URL:https://iag.org.gt/event/taller-practico-buenas-practicas-en-trabajos-de-construccion/
CATEGORIES:Eventos
ATTACH;FMTTYPE=image/png:https://iag.org.gt/wp-content/uploads/2026/03/Untitled-design-75.png
END:VEVENT
END:VCALENDAR