BEGIN:VCALENDAR
VERSION:2.0
PRODID:-//Instituto del Asfalto de Guatemala - ECPv6.15.11//NONSGML v1.0//EN
CALSCALE:GREGORIAN
METHOD:PUBLISH
X-WR-CALNAME:Instituto del Asfalto de Guatemala
X-ORIGINAL-URL:https://iag.org.gt
X-WR-CALDESC:Eventos para Instituto del Asfalto de Guatemala
REFRESH-INTERVAL;VALUE=DURATION:PT1H
X-Robots-Tag:noindex
X-PUBLISHED-TTL:PT1H
BEGIN:VTIMEZONE
TZID:America/Guatemala
BEGIN:STANDARD
TZOFFSETFROM:-0600
TZOFFSETTO:-0600
TZNAME:CST
DTSTART:20250101T000000
END:STANDARD
END:VTIMEZONE
BEGIN:VEVENT
DTSTART;TZID=America/Guatemala:20260303T080000
DTEND;TZID=America/Guatemala:20260307T170000
DTSTAMP:20260423T143450
CREATED:20260202T232939Z
LAST-MODIFIED:20260202T233547Z
UID:9113-1772524800-1772902800@iag.org.gt
SUMMARY:CONEXPO CON AGG 2026
DESCRIPTION:Nombre oficial del programa\nCONEXPO-CON/AGG \nObjetivo\nCONEXPO-CON/AGG es el punto de encuentro internacional trienal para la industria de la construcción\, con especial atención a la construcción\, los áridos y el hormigón premezclado. El evento presenta exhibiciones de las últimas tecnologías e innovaciones en equipos\, productos y servicios\, además de una amplia formación especializada. \nFechas y ubicación – Próximo espectáculo\nLa próxima CONEXPO-CON/AGG se celebrará cada tres años y tendrá lugar del 3 al 7 de marzo de 2026 en el Centro de Convenciones de Las Vegas\, en Las Vegas\, EE. UU. \nHorario: Martes – Viernes: 9 a.m. – 5 p.m. · Sábado: 9 a.m. – 3 p.m. \nAsistentes\nCONEXPO-CON/AGG atrae a personas involucradas en todos los segmentos de las industrias de construcción\, asfalto\, agregados y hormigón premezclado\, incluidos contratistas\, productores de materiales y funcionarios del sector gubernamental e institucional. \nExposiciones\nLas exhibiciones de CONEXPO-CON/AGG presentan las últimas tecnologías e innovaciones en equipos\, productos y servicios para la industria de la construcción. Las áreas de concentración de productos y los pabellones especializados facilitan a los visitantes la localización de productos\, servicios y expositores de interés. \nEducación\nCONEXPO-CON/AGG ofrece un programa educativo integral durante los cinco días de exposición\, con seminarios que enfatizan los problemas y tendencias de la industria\, la gestión y la tecnología aplicada. \nApoyo a la industria\nOrganizaciones líderes del sector a nivel mundial participan como Organizaciones de Apoyo\, al igual que publicaciones y medios de comunicación líderes del sector. CONEXPO-CON/AGG es reconocido como un punto de encuentro para las industrias internacionales de la construcción y los materiales de construcción. Cientos de reuniones del sector\, incluyendo convenciones anuales de asociaciones del sector\, se celebran en conjunto con la feria. \nPatrocinadores y productores del programa\nLos patrocinadores principales son la Asociación de Fabricantes de Equipos (AEM)\, la Asociación Nacional de Hormigón Premezclado (NRMCA) y la Asociación Nacional de Piedra\, Arena y Grava (NSSGA). El patrocinador de la feria es la Asociación de Contratistas Generales de América (AGC). AEM es la productora de la feria. \n  \nhttps://www.conexpoconagg.com/press/event-fact-sheet
URL:https://iag.org.gt/event/conexpo-con-agg-2026/
LOCATION:Las Vegas\, Nevada
CATEGORIES:Eventos
ATTACH;FMTTYPE=image/png:https://iag.org.gt/wp-content/uploads/2026/02/Untitled-design-59.png
END:VEVENT
BEGIN:VEVENT
DTSTART;TZID=America/Guatemala:20260304T030000
DTEND;TZID=America/Guatemala:20260304T040000
DTSTAMP:20260423T143450
CREATED:20260218T231217Z
LAST-MODIFIED:20260218T231339Z
UID:9139-1772593200-1772596800@iag.org.gt
SUMMARY:Performance-based Testing Webinar
DESCRIPTION:Ya está abierta la inscripción para el 12.º seminario web educativo de Eurobitume\, abierto a todos los públicos\, que tendrá lugar el 4 de marzo a partir de las 10 CET y se centrará en los ensayos de rendimiento del betún. \nEl seminario web tiene como objetivo mejorar la comprensión de la evolución del rendimiento del betún en servicio bajo diferentes condiciones de carga y temperatura. \nEste seminario web centrado en la reología brindará a los participantes una descripción general de los enfoques de pruebas actuales basados ​​en el desempeño y explicará por qué los métodos de prueba tradicionales\, empíricos y regidos por estándares de productos a menudo son insuficientes para describir o predecir el desempeño real del betún en servicio. \nTras una breve introducción a los fundamentos de la reología\, el seminario web explorará técnicas reológicas avanzadas y métodos de ensayo comúnmente utilizados para evaluar el comportamiento del betún en un amplio rango de temperaturas y niveles de tensión. Estos incluirán: \n\nReómetro de cizallamiento dinámico (DSR – EN 14770)\nReómetro de vigas de flexión (BBR – EN 14771)\nEnsayo de fluencia y recuperación por múltiples tensiones (MSCRT – EN 16659)\n\nLa sesión también abordará la importancia del estado de envejecimiento en las pruebas basadas en el rendimiento y contará con una demostración interesante para respaldar la comprensión de la terminología reológica comúnmente utilizada. \nPara quienes estén interesados ​​en profundizar en el contenido educativo\, las grabaciones de los seminarios web anteriores de Eurobitume están disponibles en la sección de educación y formación de su sitio web. Estas sesiones\, disponibles a petición\, abarcan una amplia gama de temas\, como ” ¿Qué es el betún?” \, “Química del betún” \, “Ensayos del betún” y “Especificaciones del betún”\, proporcionando información técnica adicional tanto a principiantes como a profesionales con experiencia. \nLos participantes interesados ​​en asistir a este próximo seminario web están invitados a registrarse aquí y consultar el sitio web de Eurobitume para obtener más información. \nPara registrarse\, siga este enlace: https://eurobitume.eu/register-for-eurobitume-webinar-12/ \nFuente: https://eurobitume.eu/webinar-on-performance-based-testing/ \nRegistration open for the 12th ‘Open-to-all’ webinar on Performance-based Testing webinar
URL:https://iag.org.gt/event/seminario-web-n-12-pruebas-basadas-en-el-rendimiento/
LOCATION:Europa
CATEGORIES:Eventos
ATTACH;FMTTYPE=image/png:https://iag.org.gt/wp-content/uploads/2026/02/Untitled-design-69-scaled.png
END:VEVENT
END:VCALENDAR