BEGIN:VCALENDAR
VERSION:2.0
PRODID:-//Instituto del Asfalto de Guatemala - ECPv6.15.11//NONSGML v1.0//EN
CALSCALE:GREGORIAN
METHOD:PUBLISH
X-ORIGINAL-URL:https://iag.org.gt
X-WR-CALDESC:Eventos para Instituto del Asfalto de Guatemala
REFRESH-INTERVAL;VALUE=DURATION:PT1H
X-Robots-Tag:noindex
X-PUBLISHED-TTL:PT1H
BEGIN:VTIMEZONE
TZID:America/Guatemala
BEGIN:STANDARD
TZOFFSETFROM:-0600
TZOFFSETTO:-0600
TZNAME:CST
DTSTART:20250101T000000
END:STANDARD
END:VTIMEZONE
BEGIN:VEVENT
DTSTART;TZID=America/Guatemala:20260225T080000
DTEND;TZID=America/Guatemala:20260227T170000
DTSTAMP:20260423T143919
CREATED:20260202T234240Z
LAST-MODIFIED:20260202T234240Z
UID:9119-1772006400-1772211600@iag.org.gt
SUMMARY:23.ª Jornada Alemana del Asfalto 2026
DESCRIPTION:Del  25 al 27 de febrero de 2026 \,  se celebrarán en  Berchtesgaden las  23.ªs Jornadas Alemanas del Asfalto \, que reunirán a los principales actores de la industria alemana de la construcción de carreteras asfálticas. Organizado por la  Asociación Alemana del Asfalto (DAV)  y el  Instituto Alemán del Asfalto (DAI) \, este evento emblemático cuenta con el patrocinio del  Ministerio Federal de Digitalización y Transporte (BMV) . \nBajo el lema  «Construcción de carreteras de asfalto en transición: conocernos. Hablar. Decidir». El congreso abordará temas con visión de futuro como la digitalización y la IA\, la sostenibilidad y la contabilidad de CO₂\, los combustibles alternativos\, las innovaciones en la tecnología del asfalto y los avances regulatorios. \nUn momento destacado del programa será el discurso inaugural del ex Ministro Federal de Finanzas  Peer Steinbrück . \nLa participación es  gratuita para las entidades adjudicadoras públicas . \nSuscríbete aquí:  Registro del evento \n  \nhttps://eapa.org/event/23rd-german-asphalt-days-2026/ \n  \nhttps://registrierung.geoplangmbh.de/event/#/?event=23_DeutscheAsphalttage2026_Kongress
URL:https://iag.org.gt/event/23-a-jornada-alemana-del-asfalto-2026/
LOCATION:Alemania
CATEGORIES:Eventos
ATTACH;FMTTYPE=image/jpeg:https://iag.org.gt/wp-content/uploads/2026/02/DA2026_Titelseite.jpg
END:VEVENT
BEGIN:VEVENT
DTSTART;TZID=America/Guatemala:20260227T090000
DTEND;TZID=America/Guatemala:20260227T120000
DTSTAMP:20260423T143919
CREATED:20260217T174055Z
LAST-MODIFIED:20260225T182311Z
UID:9128-1772182800-1772193600@iag.org.gt
SUMMARY:Seminario:  Buenas prácticas en la instalación de geosintéticos para pavimentos asfálticos.
DESCRIPTION:PRESENTACIÓN \nEl desempeño de los pavimentos asfálticos depende en gran medida de la adecuada gestión de la fisuración\, la distribución de esfuerzos y el control de deformaciones permanentes. En este contexto\, las intercapas geosintéticas (interlayers) se han consolidado como una solución técnica eficiente para el control de fisuración\, refuerzo estructural y mejora del comportamiento a largo plazo en proyectos de rehabilitación y conservación vial. \nOBJETIVO: \nProporcionar a los profesionales de la ingeniería civil y vial criterios técnicos actualizados para la correcta evaluación\, diseño e instalación de geosintéticos tipo intercapas (interlayers) en pavimentos asfálticos\, con el fin de mejorar el desempeño estructural\, mitigar la reflexión de grietas y optimizar la vida útil de las estructuras de pavimento bajo condiciones reales de servicio. \nOBJETIVOS ESPECÍFICOS:  \n\nAnalizar los principios mecánicos y funcionales de las intercapas en sistemas de pavimentos asfálticos.\nComprender los criterios de evaluación estructural y funcional previos a la incorporación de interlayers.\nEstablecer lineamientos técnicos para el diseño de rehabilitaciones con intercapas.\nIdentificar buenas prácticas constructivas y errores frecuentes en la instalación.\nRevisar experiencias documentadas en Estados Unidos y su aplicabilidad en el contexto técnico\, climático y constructivo de Guatemala.\nPromover especificaciones técnicas basadas en desempeño.\n\n  \nCONFERENCISTA INTERNACIONAL: \nEl seminario será impartido por el experto en la materia: Tripp Bishop\,  APM American Paving Fabrics\, Inc. \n\nDirector Regional de American Paving Fabrics\, Inc.\, empresa certificada a nivel nacional especializada en la instalación de intercapas (interlayers) para pavimentos asfálticos como actividad principal desde 1993.\nActualmente lidera la Gestión de Proyectos y el Desarrollo de Negocios para la región este de los Estados Unidos.\nMás de 22 años de experiencia en Gestión de Proyectos y Operaciones en la instalación de intercapas asfálticas\, incluyendo la recomendación técnica de productos y su promoción en aplicaciones de pavimentación.\nAdministrador de Pavimentos Acreditado (Accredited Pavement Manager) desde 2018.\nMiembro fundador del Grupo de Trabajo de Intercapas de la GMA (GMA Interlayer Task Group – ITG).\n\n-Tripp Bishop es el Director de Desarrollo de Negocios para American Paving Fabrics desde 2014 en la región Este de los Estados Unidos. En 2018 fundó Bishop Consulting Services\, LLC con el objetivo de cubrir un vacío en la industria relacionado con la consultoría en obras civiles de sitio (pavimentos asfálticos y de concreto)\, y ha estado involucrado en trabajos de infraestructura civil desde mediados de la década de 1980. \n-Hijo de un propietario de una importante empresa de construcción civil en el sur de Virginia\, Tripp comenzó a trabajar durante los veranos a los 15 años en una cuadrilla de instalación de tuberías\, desempeñándose posteriormente en la operación de maquinaria pesada y adquiriendo experiencia integral en todas las etapas del desarrollo de obras civiles de urbanización y movimiento de tierras. \n-En 1990 ingresó a la Marina de los Estados Unidos (US Navy)\, donde obtuvo valiosa experiencia mediante una formación intensiva en logística y gestión de cadenas de suministro. Tras finalizar su servicio militar en 1996\, cursó estudios en East Carolina University\, donde obtuvo una doble titulación en Gestión de la Construcción (Construction Management) y Administración de Empresas (Business Management)\, graduándose con honores en diciembre de 1999. \n-Actualmente cuenta con la certificación Accredited Pavement Manager (APM) y posee más de 25 años de experiencia en gestión de la construcción y gestión de pavimentos. En el marco de su certificación APM\, posee amplio dominio de la norma ASTM D6433 para la evaluación de condición de pavimentos (Pavement Condition Index\, PCI) y ha brindado asesoría técnica a sus clientes en la elaboración de Alcances de Trabajo (Scopes of Work) técnicamente fundamentados para diversos proyectos. Asimismo\, proporciona apoyo complementario mediante servicios de supervisión y gestión de obra en campo. \n-Reconocido por su tenacidad y estilo de comunicación proactiva\, Tripp ha enfocado su labor profesional y la de su empresa en la capacitación de asociaciones de propietarios (HOA)\, funcionarios de obras públicas\, ingenieros municipales y gestores de activos\, promoviendo la adopción de mejores prácticas en gestión de pavimentos. \n-La filosofía corporativa en materia de pavimentos se resume en el lema: “Decisiones basadas en datos hoy\, mejores carreteras mañana”\, lo que refleja un firme compromiso con la implementación de tecnologías innovadoras\, metodologías avanzadas y enfoques sistemáticos orientados a la optimización y sostenibilidad de las redes viales. \n-Actualmente reside en Midlothian\, Virginia\, junto a su esposa\, con quien lleva 15 años de matrimonio\, y sus tres hijos. \n\nCONFERENCISTA NACIONAL:\n \nMSc. Ing. Rodrigo Rubio Haasler\,  Servicios para la industria SERPIN.\n\n\nIngeniero civil graduado de la Universidad del Valle de Guatemala\, cuenta con una Maestría en Ingeniería Civil con énfasis en Infraestructura Vial cursada en la Pontificia Universidad Javeriana de Bogotá\, Colombia.\nActualmente es Gerente Técnico de la empresa SERPIN (Servicios para industria)\, supervisando las líneas de diseño de pavimentos\, geofísica aplicada\, laboratorio de materiales\, investigación con nanomateriales y gestión vial.\nRepresenta a nuestro socio comercial: Servicios para la industria SERPIN.\n\n\nTEMAS: \n\n\nIng. Rubio: “Evaluación y Diseño de Pavimentos Asfálticos con Intercapas (Interlayers)”\nIng. Bishop: “Experiencias en instalación y aplicación de Interlayers para pavimentos asfálticos en Estados Unidos; recomendaciones para Guatemala” (\nConferencia en ingles con sistema de traducción)\n\n\nGENERALIDADES: \n\nFormato: Presencial\nLugar: Hotel AC Marriott\, Salón Ixcanul Cayalá z 16\nDía: 27 de febrero de 2026\nHora: 9:00 am – 12:00 pm\nInversión:\n\nSocios IAG: Q 300.00\nPúblico general: Q 400.00\n\n\nInscripción:\n\nhttps://forms.gle/PcmP5kEZWgBj93RV7\n\n\n\nDepósito o transferencia a cuenta:\n\nNombre: Instituto del Asfalto de Guatemala.\nBanco: Banco Industrial BI\nTipo de Cuenta: monetaria\nNúmero de Cuenta: 004-0054405\n\n\nIncluye:\n\nDesayuno\nDiploma de participación:\nPresentaciones.\n\n\n\nCon el auspicio de: Solmax \n¡Inscríbete y no te quedes fuera! \n 
URL:https://iag.org.gt/event/seminario-buenas-practicas-en-la-instalacion-de-geosinteticos-para-pavimentos-asfalticos/
LOCATION:Ciudad capital\, Guatemala\, Guatemala
CATEGORIES:Eventos
ATTACH;FMTTYPE=image/png:https://iag.org.gt/wp-content/uploads/2026/02/PORTADA-PAG-WEB-SEMINARIO-SOLMAX-1920-x-1080-px.png
END:VEVENT
END:VCALENDAR