BEGIN:VCALENDAR
VERSION:2.0
PRODID:-//Instituto del Asfalto de Guatemala - ECPv6.15.11//NONSGML v1.0//EN
CALSCALE:GREGORIAN
METHOD:PUBLISH
X-ORIGINAL-URL:https://iag.org.gt
X-WR-CALDESC:Eventos para Instituto del Asfalto de Guatemala
REFRESH-INTERVAL;VALUE=DURATION:PT1H
X-Robots-Tag:noindex
X-PUBLISHED-TTL:PT1H
BEGIN:VTIMEZONE
TZID:America/Guatemala
BEGIN:STANDARD
TZOFFSETFROM:-0600
TZOFFSETTO:-0600
TZNAME:CST
DTSTART:20240101T000000
END:STANDARD
END:VTIMEZONE
BEGIN:VEVENT
DTSTART;TZID=America/Guatemala:20251117T080000
DTEND;TZID=America/Guatemala:20251121T170000
DTSTAMP:20260423T204157
CREATED:20250715T184954Z
LAST-MODIFIED:20250724T205734Z
UID:8860-1763366400-1763744400@iag.org.gt
SUMMARY:XXXIII CILA - CONGRESO IBERO-LATINOAMERICANO DEL ASFALTO.
DESCRIPTION:El Congreso Ibero-Latinoamericano del Asfalto (CILA) es el evento más relevante para profesionales del sector vial y pavimentación en Iberoamérica. Reuniendo a expertos\, investigadores y empresas líderes\, el congreso ofrece un espacio para el intercambio de conocimientos\, la innovación en tecnologías de asfalto y la optimización de infraestructuras viales. \nDurante esta edición\, se abordarán temas clave como sostenibilidad en pavimentación\, nuevos materiales y metodologías de construcción\, mantenimiento eficiente de carreteras y normativas actualizadas en la región. \nCILA no solo es un espacio de aprendizaje\, sino también una plataforma de networking donde los asistentes podrán conectar con líderes del sector\, descubrir nuevas oportunidades de negocio y fortalecer el desarrollo de infraestructuras sostenibles para el futuro. \n\n\n\n\n\n\n\nInnovación en tecnologías del asfalto\nDesarrollo de infraestructuras sostenibles\nDiseño de mezclas asfálticas\nNormativas y regulaciones en pavimentación\nNuevos materiales y metodologías de construcción\n\n\n\n\n\n\n\n\nMantenimiento y rehabilitación de carreteras\nImpacto ambiental y soluciones ecológicas\nDesarrollo y control de calidad de agregados\nGerenciamiento de pavimentos y Big Data\nDivulgación y formación en el sector vial\n\n\n\n\n\n  \n\n\nDetalles del evento:\n\n\n\n\n\n\n\n\n\n\nFecha \n17 al 21 de Noviembre de 2025\n\n\n\n\n\n\n\n\n\n\n\n\n\nSede\nCentro de Convenciones de la Conmebol\n\n\n\n\n\n\n\n\n\n\n\n\n\nUbicación\nAsunción Paraguay\n\n\n\n\n\n\nMás información\nhttps://cilacongreso.com/cila-2025/\n\n\nFuente: Congreso Ibero-Latinoamericano del Asfalto (CILA) https://cilacongreso.com/inscripcion/
URL:https://iag.org.gt/event/xxxiii-cila/
LOCATION:Asunción\, Paraguay
CATEGORIES:Eventos
ATTACH;FMTTYPE=image/png:https://iag.org.gt/wp-content/uploads/2025/07/XXIII-CILA-.png
END:VEVENT
END:VCALENDAR