BEGIN:VCALENDAR
VERSION:2.0
PRODID:-//Instituto del Asfalto de Guatemala - ECPv6.15.11//NONSGML v1.0//EN
CALSCALE:GREGORIAN
METHOD:PUBLISH
X-ORIGINAL-URL:https://iag.org.gt
X-WR-CALDESC:Eventos para Instituto del Asfalto de Guatemala
REFRESH-INTERVAL;VALUE=DURATION:PT1H
X-Robots-Tag:noindex
X-PUBLISHED-TTL:PT1H
BEGIN:VTIMEZONE
TZID:America/Guatemala
BEGIN:STANDARD
TZOFFSETFROM:-0600
TZOFFSETTO:-0600
TZNAME:CST
DTSTART:20240101T000000
END:STANDARD
END:VTIMEZONE
BEGIN:VEVENT
DTSTART;TZID=America/Guatemala:20250827T140000
DTEND;TZID=America/Guatemala:20250827T170000
DTSTAMP:20260424T042310
CREATED:20250715T215516Z
LAST-MODIFIED:20250715T215757Z
UID:8887-1756303200-1756314000@iag.org.gt
SUMMARY:Infraestructura 2025: Puertos para el desarrollo.
DESCRIPTION:Infraestructura 2025: Puertos para el desarrollo. \nGuatemala moviliza más del 80% de su comercio exterior por vía marítima\, pero su sistema portuario enfrenta obstáculos estructurales significativos. A pesar de su posición geográfica privilegiada y proyección bioceánica\, los puertos operan sin una autoridad rectora ni un plan maestro intermodal que oriente su desarrollo. \nLa modernización de los puertos no ha sido frenada por falta de estudios ni de recursos\, sino por una combinación de obstáculos técnicos y políticos: fragmentación normativa\, presión sindical\, captura institucional\, corrupción y la ausencia de una autoridad portuaria con liderazgo real. Lamentablemente\, no ha existido voluntad política suficiente para enfrentar y superar esta problemática. \nEl modelo actual\, basado en empresas autónomas que funcionan sin coordinación entre el Atlántico y el Pacífico\, ha derivado en decisiones reactivas\, infraestructura saturada\, brechas tecnológicas\, conflictos sindicales\, superposición de controles y costos logísticos elevados. \nFuente: https://eventos.republica.com/infraestructura/ \n\n\n\nDetalles del evento:\n\n\n\n\n\n\n\nFecha\n27 de Agosto de 2025\n\n\n\n\n\n\n\n\n\n\n\n\n\nSede\nEpica\, AVIA zona 10.\n\n\n\n\n\n\n\n\n\n\n\n\n\nUbicación\nCiudad capital\, Guatemala\n\n\n\n\n\n\nMás información\nhttps://eventos.republica.com/infraestructura/\n  \nFuente: https://eventos.republica.com/infraestructura/ \n  \n  \n \nInfraestructura
URL:https://iag.org.gt/event/infraestructura-2025-puertos-para-el-desarrollo/
LOCATION:Ciudad capital\, Guatemala\, Guatemala
CATEGORIES:Eventos
ATTACH;FMTTYPE=image/png:https://iag.org.gt/wp-content/uploads/2025/07/Screenshot-2025-07-15-155147.png
END:VEVENT
END:VCALENDAR