BEGIN:VCALENDAR
VERSION:2.0
PRODID:-//Instituto del Asfalto de Guatemala - ECPv6.15.11//NONSGML v1.0//EN
CALSCALE:GREGORIAN
METHOD:PUBLISH
X-ORIGINAL-URL:https://iag.org.gt
X-WR-CALDESC:Eventos para Instituto del Asfalto de Guatemala
REFRESH-INTERVAL;VALUE=DURATION:PT1H
X-Robots-Tag:noindex
X-PUBLISHED-TTL:PT1H
BEGIN:VTIMEZONE
TZID:America/Guatemala
BEGIN:STANDARD
TZOFFSETFROM:-0600
TZOFFSETTO:-0600
TZNAME:CST
DTSTART:20240101T000000
END:STANDARD
END:VTIMEZONE
BEGIN:VEVENT
DTSTART;TZID=America/Guatemala:20250620T090000
DTEND;TZID=America/Guatemala:20250620T130000
DTSTAMP:20260424T082718
CREATED:20250528T231635Z
LAST-MODIFIED:20250606T192322Z
UID:8828-1750410000-1750424400@iag.org.gt
SUMMARY:Seminario: Introducción a la caracterización de asfaltos modificados.
DESCRIPTION:OBJETIVO: \nEste seminario ofrece una visión general sobre los conceptos fundamentales de la modificación de asfaltos y su caracterización. Está dirigido a profesionales del sector vial\, ingenieros\, técnicos y estudiantes que deseen comprender las propiedades\, ventajas y aplicaciones de los asfaltos modificados. \n  \nA lo largo del seminario\, se abordarán temas clave como los tipos de modificadores\, métodos de caracterización reológica y pruebas de desempeño\, así como su impacto en la durabilidad y comportamiento de las mezclas asfálticas. \n  \nUna excelente oportunidad para actualizar conocimientos y fortalecer la toma de decisiones en proyectos de infraestructura vial. \nEl seminario será impartido por el experto en la materia: MSc. Ing. Rodrigo Rubio Haasler. \n  \n\nRodrigo Rubio es Ingeniero civil graduado de la Universidad del Valle de Guatemala\, cuenta con una Maestría en Ingeniería Civil con énfasis en Infraestructura Vial cursada en la Pontificia Universidad Javeriana de Bogotá\, Colombia\nActualmente es Gerente Técnico de la empresa SERPIN (Servicios para industria)\, supervisando las líneas de diseño de pavimentos\, geofísica aplicada\, laboratorio de materiales\, investigación con nanomateriales y gestión vial.\nRepresenta a nuestro socio comercial: Servicios para la industria SERPIN.\n\nGeneralidades: \n\nConferencista: MSc. Rodrigo Rubio Haasler\nFormato: Presencial\nLugar: Hotel AC Marriott\, Salón Ixcanul Cayalá z 16\nDía: 20 de junio de 2025\nHora: 9:00 am  -1:00 pm\nInversión:\n\nSocios IAG: Q 350.00\nPúblico general: Q 450.00\n\n\nDepósito o transferencia a cuenta:\n\nNombre: Instituto del Asfalto de Guatemala.\nBanco: Banco Industrial BI\nTipo de Cuenta: monetaria\nNúmero de Cuenta: 004-0054405\n\n\nIncluye:\n\nCoffee Break\nDiploma de participación:\nPresentaciones.\n\n\nInscripción:\n\nhttps://forms.gle/z6tFSSg5qg8aM99F6\n\n\n\n  \nAhora puedes escanear el código QR para inscribirte: \n \n¡Inscríbete y no te quedes fuera! \n  \n \n  \n  \n  \n  \n  \n  \n 
URL:https://iag.org.gt/event/seminario-introduccion-a-la-caracterizacion-de-asfaltos-modificados/
LOCATION:Ciudad de Guatemala\, Guatemala
CATEGORIES:Eventos
ATTACH;FMTTYPE=image/png:https://iag.org.gt/wp-content/uploads/2025/05/PRES-SEMINARIO-ASFALTOS-MODIFICADOS-.png
ORGANIZER;CN="IAG":MAILTO:capacitacion@iag.org.gt
END:VEVENT
END:VCALENDAR