BEGIN:VCALENDAR
VERSION:2.0
PRODID:-//Instituto del Asfalto de Guatemala - ECPv6.15.11//NONSGML v1.0//EN
CALSCALE:GREGORIAN
METHOD:PUBLISH
X-WR-CALNAME:Instituto del Asfalto de Guatemala
X-ORIGINAL-URL:https://iag.org.gt
X-WR-CALDESC:Eventos para Instituto del Asfalto de Guatemala
REFRESH-INTERVAL;VALUE=DURATION:PT1H
X-Robots-Tag:noindex
X-PUBLISHED-TTL:PT1H
BEGIN:VTIMEZONE
TZID:America/Guatemala
BEGIN:STANDARD
TZOFFSETFROM:-0600
TZOFFSETTO:-0600
TZNAME:CST
DTSTART:20240101T000000
END:STANDARD
END:VTIMEZONE
BEGIN:VEVENT
DTSTART;TZID=America/Guatemala:20250506T100000
DTEND;TZID=America/Guatemala:20250506T150000
DTSTAMP:20260424T094420
CREATED:20250408T175019Z
LAST-MODIFIED:20250408T181615Z
UID:8629-1746525600-1746543600@iag.org.gt
SUMMARY:Inter Cila 2025 / Camino al XXIII CILA
DESCRIPTION:Inter Cila 2025\n  \nEl Inter Cila es un evento catalogado como puente entre los congresos iberolatinoamericanos del asfalto (CILA) \n\n\n\n\n\n\n\n\n\n\n\n\n\n\n\n\n\nLos Congresos Iberolatinoamericanos del Asfalto (CILA) están entre los congresos más importantes del mundo en el ámbito de la pavimentación asfáltica y lo son sin duda entre los que se desarrollan en lengua española. \n\nSe ha llegado al convencimiento de que los dos años que transcurren entre cada edición del CILA deberían ser cubiertos con actividades que den continuidad a las actividades que se desarrollan en el sector iberolatinoamericano del asfalto y la pavimentación. Surge así la idea de celebrar una reunión en el año en que no hay congreso con el fin de poder satisfacer esa necesidad de actualización tecnológica anual. De ahí surge interCILA con una vocación de universalidad que logra con la integración de tecnologías de la información y comunicación. \n\nhttps://intercila.com/sobre-los-intercila/ \nGeneralidades:  \n\nDía: 6 de mayo del 2025\nHora: 10:00 hrs -15:00 hrs. (Argentina)\nFormato: Virtual\nPlataforma: Itafec\nCosto: Sin recargo\nInscripción: https://intercila.com/\nOrganizadores: Comisión Permanente del Asfalto\, Argentina y Cede Permamente del Cila\nhttps://cpasfalto.com.ar/\nhttps://intercila.com/\n\n\n\nInter Cila 2025 / https://intercila.com/
URL:https://iag.org.gt/event/inter-cila-2025/
LOCATION:Buenos Aires\, Argentina
CATEGORIES:Eventos
ATTACH;FMTTYPE=image/png:https://iag.org.gt/wp-content/uploads/2025/04/Untitled-design-44.png
END:VEVENT
END:VCALENDAR