BEGIN:VCALENDAR
VERSION:2.0
PRODID:-//Instituto del Asfalto de Guatemala - ECPv6.15.11//NONSGML v1.0//EN
CALSCALE:GREGORIAN
METHOD:PUBLISH
X-WR-CALNAME:Instituto del Asfalto de Guatemala
X-ORIGINAL-URL:https://iag.org.gt
X-WR-CALDESC:Eventos para Instituto del Asfalto de Guatemala
REFRESH-INTERVAL;VALUE=DURATION:PT1H
X-Robots-Tag:noindex
X-PUBLISHED-TTL:PT1H
BEGIN:VTIMEZONE
TZID:America/Grenada
BEGIN:STANDARD
TZOFFSETFROM:-0400
TZOFFSETTO:-0400
TZNAME:AST
DTSTART:20230101T000000
END:STANDARD
END:VTIMEZONE
BEGIN:VEVENT
DTSTART;TZID=America/Grenada:20240422T080000
DTEND;TZID=America/Grenada:20240426T180000
DTSTAMP:20260425T095852
CREATED:20240101T210939Z
LAST-MODIFIED:20240201T172555Z
UID:7406-1713772800-1714154400@iag.org.gt
SUMMARY:XXII CILA
DESCRIPTION:5 días / 8 conferencias magistrales 60 conferenciantes / 250 comunicaciones técnicas Amplia área de exposiciones y maquinaria\, es lo que los organizadores del CILA XXII  aseguran en su pagina oficial. \nEl XXII CILA contará con ocho conferencias magistrales de expertos internacionales\, a cuyo perfil profesional se puede acceder desde la app del evento así como a una mensajería instantánea con la que establecer contacto directo. \nPara mayor informacion del evento ingresa a la pagina oficial: https://congresocila.com/ \nhttps://congresocila.com/about/shop/inscripciones/
URL:https://iag.org.gt/event/xxii-cila/
LOCATION:Granada\, España
CATEGORIES:Eventos
ATTACH;FMTTYPE=image/jpeg:https://iag.org.gt/wp-content/uploads/2023/04/CILA.jpeg
END:VEVENT
END:VCALENDAR