BEGIN:VCALENDAR
VERSION:2.0
PRODID:-//Instituto del Asfalto de Guatemala - ECPv6.15.11//NONSGML v1.0//EN
CALSCALE:GREGORIAN
METHOD:PUBLISH
X-WR-CALNAME:Instituto del Asfalto de Guatemala
X-ORIGINAL-URL:https://iag.org.gt
X-WR-CALDESC:Eventos para Instituto del Asfalto de Guatemala
REFRESH-INTERVAL;VALUE=DURATION:PT1H
X-Robots-Tag:noindex
X-PUBLISHED-TTL:PT1H
BEGIN:VTIMEZONE
TZID:America/Guatemala
BEGIN:STANDARD
TZOFFSETFROM:-0600
TZOFFSETTO:-0600
TZNAME:CST
DTSTART:20220101T000000
END:STANDARD
END:VTIMEZONE
BEGIN:VEVENT
DTSTART;TZID=America/Guatemala:20230925T080000
DTEND;TZID=America/Guatemala:20230928T170000
DTSTAMP:20260425T201525
CREATED:20230919T192548Z
LAST-MODIFIED:20240201T181539Z
UID:8125-1695628800-1695920400@iag.org.gt
SUMMARY:AAPT 2023 Annual Meeting & Technical Sessions
DESCRIPTION:La Asociación de tecnólogos de pavimentos asfálticos  por sus siglas en ingles: (AAPT) Association of Asphalt Paving Techlologists\,  es una comunidad global de investigadores y profesionales que sirve como foro central para la comunicación\, la creación de redes y el intercambio de ideas para avanzar en el conjunto de conocimientos y el estado de la práctica en la tecnología de pavimentación con asfalto- \nLa AAPT llevára a cabo su  Reunión anual y sesiones técnicas de AAPT 2023 del 25 al 28 de septiembre del 2023\, donde tomara lugar en el Hotel Westin San Diego\, San Diego\, California USA. \nPara mayor información del evento visite: \nhttps://www.asphalttechnology.org/site_event_detail.cfm?pk_association_event=25283 \nMás inforamción de la AAPT: \nhttps://www.asphalttechnology.org/ \n  \nSi tiene alguna pregunta o comentario\, contácte  aapt@asphalttechnology.org \n 
URL:https://iag.org.gt/event/aapt-2023-annual-meeting-technical-sessions/
LOCATION:San Diego\, California  USA
CATEGORIES:Eventos
ATTACH;FMTTYPE=image/png:https://iag.org.gt/wp-content/uploads/2023/09/AAPT-Flyer_San-Diego_FINAL-0021.png
ORGANIZER;CN="AAPT":MAILTO:aapt@asphalttechnology.org
END:VEVENT
BEGIN:VEVENT
DTSTART;TZID=America/Guatemala:20230926T090000
DTEND;TZID=America/Guatemala:20230927T180000
DTSTAMP:20260425T201525
CREATED:20230912T162037Z
LAST-MODIFIED:20240201T181510Z
UID:8108-1695718800-1695837600@iag.org.gt
SUMMARY:2ª International Conference on Asphalt 4.0
DESCRIPTION:Asefma y ZAS \, en colaboración con EAPA \, tienen el placer de extender una cordial invitación al II “Congreso Internacional sobre Asfalto 4.0” ( #ICA4point0 )\, donde se mostrarán y analizarán las tecnologías más punteras relacionadas con la transformación digital de las mezclas asfálticas. \n  \nLos días 26 y 27 de septiembre tendrá lugar en Madrid la II “Conferencia Internacional sobre Asfalto 4.0”. Esta conferencia da seguimiento a la exitosa iniciativa iniciada por Asefma y ZAS en Madrid el pasado mes de septiembre. \nA lo largo de dos enriquecedores días\, la 2ª “Conferencia Internacional sobre Asfalto 4.0” brindará a todos los asistentes la oportunidad única de ampliar su base de conocimientos. Estimados oradores y expertos realizarán presentaciones interesantes \, revelando las últimas tecnologías en el ámbito de la transformación del asfalto . Las interesantes mesas redondas también serán un punto focal\, ofreciendo una plataforma para intercambios interactivos de ideas y experiencias. asegura Asegura ICA en su página oficial. \nhttps://ica4point0.com/#about \n  \nDurante los dos días de la 2ª “International Conference on Asphalt 4.0” ofreceremos a todos los participantes la oportunidad de aumentar sus conocimientos a través de ponentes expertos\, presentación de tecnologías y mesas redondas. \nDesarrollado bajo el modelo de evento PDV (presencial+digital+virtual) se podrá seguir\, asegura ITAFEC en su página oficial. \n  \nhttps://www.itafec.com/eventos/2%C2%AA-international-conference-on-asphalt-40 \n 
URL:https://iag.org.gt/event/2a-international-conference-on-asphalt-4-0/
LOCATION:Madrid\, España
CATEGORIES:Eventos
ATTACH;FMTTYPE=image/png:https://iag.org.gt/wp-content/uploads/2023/09/AFPA-1.png
END:VEVENT
END:VCALENDAR