BEGIN:VCALENDAR
VERSION:2.0
PRODID:-//Instituto del Asfalto de Guatemala - ECPv6.15.11//NONSGML v1.0//EN
CALSCALE:GREGORIAN
METHOD:PUBLISH
X-WR-CALNAME:Instituto del Asfalto de Guatemala
X-ORIGINAL-URL:https://iag.org.gt
X-WR-CALDESC:Eventos para Instituto del Asfalto de Guatemala
REFRESH-INTERVAL;VALUE=DURATION:PT1H
X-Robots-Tag:noindex
X-PUBLISHED-TTL:PT1H
BEGIN:VTIMEZONE
TZID:America/Guatemala
BEGIN:STANDARD
TZOFFSETFROM:-0600
TZOFFSETTO:-0600
TZNAME:CST
DTSTART:20220101T000000
END:STANDARD
END:VTIMEZONE
BEGIN:VEVENT
DTSTART;TZID=America/Guatemala:20230906T180000
DTEND;TZID=America/Guatemala:20230920T203000
DTSTAMP:20260425T215123
CREATED:20230814T181436Z
LAST-MODIFIED:20230821T220644Z
UID:8012-1694023200-1695241800@iag.org.gt
SUMMARY:DISEÑO DE MEZCLAS ASFÁLTICAS- DR. FONSECA
DESCRIPTION:OBJETIVO:\nProporcionar información de las tecnologías de evaluación de calidad de materiales pétreos\, cementos asfálticos virgen\, cemento asfáltico envejecido\, mezclas asfálticas nuevas\, mezclas asfálticas de reúso\, así como emplear las metodologías de diseño de mezclas asfálicas empleadas en en capas de pavimentos flexibles para diferentes tipos de vialidades. Como una parte importante\, esta información de temas técnicos hace referencia a las normas técnicas publicadas por la Especificaciones Generales para Construcción de Carreteras y Puentes\, vigentes en Guatemala\, alguna con consideraciones de la Secretaría de Infraestructura\, Comunicaciones y Transportes\, SICT\, en México\, por la American Association for State Highways and Transportation Officials\, AASHTO\, por la American Society for Testing Materials\, ASTM\, y por el Asphalt Institute\, AI. \nDIRIGIDO A:\nIngenieros civiles\, arquitectos y técnicos involucrados en los procesos de planeación\, diseño\, construcción y conservación de pavimentos flexibles en diferentes tipos de vialidades. \nCATEDRÁTICO:\nCarlos Humberto Francisco de Asís Fonseca Rodríguez. \n\nDoctor Ingeniero en Caminos\, Canales y Puertos.\nMaestro en Ingeniería con Especialidad en Estructuras.\nIngeniero en Caminos\, Canales y Puertos.\nIngeniero Civil Título profesional.\n\nExtracto: \nDoctor Ingeniero en Caminos\, Canales y Puertos\, Maestro en Ingeniería con Especialidad en Estructuras\, experiencia profesional como consultor en infraestructura del transporte. Experiencia y conocimientos adquiridos como Ingeniero Civil\, Master en Estructuras\, Postgrado en Ingeniería Civil Transportes\, Ingeniero en Caminos Canales y Puertos\, Doctor Ingeniero en Caminos\, Canales y Puertos\, así como Profesional Responsable Certificado\, PRC No. 005\, por la Ley de Pavimentos del Estado de Nuevo León.  Durante 41 años de vida profesional ha realizado trabajos de consultoría técnica en tópicos relacionados con Infraestructura Vial y áreas de especialidad relacionadas. El Dr. Fonseca Rodríguez dedicó 36 años a la docencia y actividades de investigación\, desarrollo y consultoría\, especialmente en el Instituto Tecnológico de Monterrey\, Campus Monterrey\, como Profesor de Planta del Departamento de Ingeniería Civil. \nHa sido Asesor en Instituciones y Empresas Privadas Ha realizado estudios para la caracterización de materiales pétreos\, materiales asfálticos y mezclas asfálticas\, Asesor en Instituciones y Empresas Públicas Ha realizado Control de Avances Físico Financieros de Obras\, así como estudios para la caracterización de materiales pétreos\, materiales asfálticos y mezclas asfálticas\, de acuerdo a las especificaciones de: Superior Performance Pavement\, SUPERPAVE\, Dirigió el proyecto de Estudios y Diseños de materiales para manufacturar mezclas asfálticas para tratamientos superficiales de vialidades en el Estado de Nuevo León. Desde el año 2020 hasta la fecha ha realizado estudios\, así como consultorías técnicas para Guatemala dirigido al Ministerio de Comunicaciones\, Infraestructura y Vivienda\, CIV\, de la República de Guatemala. al Ministerio de Comunicaciones\, Infraestructura y Vivienda\, CIV\, de la República de Guatemala. \n  \nGENERALIDADES:\nDías: Martes y jueves \nInicia: Martes 05 de septiembre \nDuración: 12.5 hrs. \nSesiones: 5 (2.5 hrs. c/u) \nModalidad: Virtual \nPlataforma: Zoom \nHora: 6:00 pm – 8:30 pm (Hora Guatemala) \nInscripción:  https://forms.gle/xAtB8X2QWxKW9WeL6 \n  \nForma de Pago\n\nDepósito o transferencia a las siguiente cuenta: \n\nBanco:      Banco Industrial\nTipo:         Monetaria (Q)\nNombre:  Instituto del Asfalto de Guatemala\nCuenta:     No. 004-005440-\n\nVisalink: \nSolicita tu visa link al correo de capacitacion@iag.org.gt\n\n(Comisión por Visalink) \nNOTA:\n-Para validar su inscripción\, deberá de enviar su comprobante de pago a: capacitacion@iag.org.gt \n\n\n  \nPROGRAMA:\nSESIÓN 1.\nAGREGADOS PÉTREOS VIRGEN. [2.5 horas]\n1.1 Mineralogía del agregado pétreo virgen. Extracción de rocas.\n1.2 Granulometría de fracciones gravas\, sellos y arenas.\n1.3 Muestreo del agregado pétreo.\n1.4 Determinación de propiedades del agregado pétreo.\n1.5 Propiedades de origen y consenso del agregado pétreo\, fracción gruesa y fina.\n1.6 Tipología de mezclas asfálticas. Granulometrías.\n1.7 Estructura granulométrica. Tamaño Nominal\, TN\, Tamaño Máximo\, TM.\n1.8 Propiedades volumétricas del agregado pétreo\, Gsa\, Gse\, Gsb.\n1.9 Absorción del agregado pétreo\, Abs.\n1.10 Combinación de propiedades por fracciones del agregado pétreo. \nSESIÓN 2.\nCEMENTOS ASFÁLTICOS. [2.5 horas]\n2.1 Procedencia del cemento asfáltico.\n2.2 Propiedades físicas y químicas. Componentes.\n2.3 Metodología para la caracterización del cemento asfáltico. Penetración y Viscosidad.\n2.4 Propiedades reológicas y desempeño cemento asfálticos.\n2.5 Metodología para la caracterización del cemento asfáltico. Grado PG y Creep Repetido\nMulti-Esfuerzo\, MSCR\, (Multiple Stress Creep Recovery).\n2.6 Asfaltos convencionales y modificados. Deformaciones y Agrietamientos \nSESIÓN 3.\nDISEÑO DE LA MEZCLA ASFÁLTICA. METODOLOGÍA MARSHALL [2.5 horas]\n3.1 Requisitos de materiales pétreos.\n3.2 Propuestas granulométricas iniciales de la mezcla asfáltica.\n3.3 Combinación de densidades y absorciones de porciones de agregados. \n3.4 Proceso de compactación de mezclas asfálticas. Especificaciones.\n3.5 Definición del contenido de cemento asfáltico inicial y efectivo. Pbi y Pbe.\n3.6 Evaluación de las propiedades volumétricas de la mezcla asfáltica compacta y suelta.\n3.7 Propiedades volumétricas\, Gmb\, VAM\, VFA y Gmm.\n3.8 Determinación del contenido de cemento asfáltico óptimo. \nSESIÓN 4.\nDISEÑO DE LA MEZCLA ASFÁLTICA. METODOLOGÍA COMPACTADOR GIRATORIO. [2.5 horas]\n4.1 Proceso de compactación de mezclas asfálticas. Especificaciones.\n4.2 Número de giros de diseño\, número de giros mínimos y número de giros máximos.\n4.3 Definición del contenido de cemento asfáltico inicial y efectivo. Pbi y Pbe.\n4.4 Evaluación de las propiedades volumétricas de la mezcla asfáltica compacta y suelta.\n4.5 Propiedades volumétricas\, Gmb\, VAM\, VFA y Gmm.\n4.6 Relación filler y contenido de cemento asfáltico.\n4.7 Determinación del contenido de cemento asfáltico óptimo.\n4.8 Evaluación propiedades de comportamiento de la mezcla asfáltica con el contenido de cemento asfáltico óptimo. \nSESIÓN 5.\nCONSIDERACIONES EN EL DISEÑO DE MEZCLAS ASFÁLTICA CON RAP. [2.5 horas]\n5.1 Conceptos y definiciones del RAP (Reclaimed Asphalt Pavement).\n5.2 Granulometría de fracciones del RAP.\n5.3 Muestreo del RAP y variabilidad según procedencia.\n5.4 Condición de humedad del RAP.\n5.5 Criterios de diseño de mezclas asfálticas con RAP.\n5.6 Conceptos del diseño balanceado de mezclas asfálticas. \n  \nRESUMEN CV:\nEXPERIENCIA PROFESIONAL:\nCONSULTOR EN INFRAESTRUCRA DEL TRANSPORTE \nCon sus experiencia y conocimientos adquiridos como Ingeniero Civil\, 1980\, Cédula Profesional No. 8200421; Maestría en Estructuras\, 1991; Postgrado en Ingeniería Civil Transportes\, 1993; Ingeniero en Caminos Canales y Puertos\, 1995\, Doctor Ingeniero en Caminos\, Canales y Puertos\, 1996\, así como Profesional Responsable Certificado\, PRC No. 005\, por la Ley de Pavimentos del Estado de Nuevo León; Certificado en Diseño de Mezclas Asfálticas\, DM-IMT/AMAAC 183; y Certificado Profesional Ingeniería en Vías Terrestres\, CICNL\, No. 001102; ha realizado durante 41 años de vida profesional\, consultoría técnica y académica en tópicos relacionados con Infraestructura Vial y áreas de especialidad relacionadas. \nAsesor en Instituciones y Empresas Privadas \nHa realizado estudios para la caracterización de materiales pétreos\, materiales asfálticos y mezclas asfálticas\, de acuerdo a las especificaciones de: Superior Performance Pavement\, SUPERPAVE\, Protocolo AMAAC 2008/2011/2013\, Ley de Pavimentos del Estado de Nuevo León\, realizando diseño de pavimentos y mezclas asfálticas\, \nAsesor en Instituciones y Empresas Públicas \nHa realizado Control de Avances Físico Financieros de Obras\, así como estudios para la caracterización de materiales pétreos\, materiales asfálticos y mezclas asfálticas\, de acuerdo a las especificaciones de: Superior Performance Pavement\, SUPERPAVE\, Protocolo AMAAC 2008/2011/2013\, Ley de Pavimentos del Estado de Nuevo León\, realizando diseño de pavimentos y mezclas asfálticas. \nSistema de Caminos del Estado de Nuevo León\, SCNL \nDirigió el proyecto de Estudios y Diseños de materiales para manufacturar mezclas asfálticas para tratamientos superficiales de vialidades en el Estado de Nuevo León. Los resultados de los estudios dieron origen al Reglamento de Pavimentos en 2003 y posteriormente a la Ley de Pavimentos del Estado de Nuevo León\, fungiendo el Dr. Fonseca Rodríguez como uno de los gestores de dicha Ley\, única en la República Mexicana. Desde su fundación\, el Dr. Fonseca Rodríguez es miembro activo del Consejo Técnico de la Ley de Pavimentos del Estado de Nuevo León. \nFORMACIÓN ACADÉMICA \nDoctor Ingeniero en Caminos\, Canales y Puertos \n“Apto Cum Laude” Escuela Técnica Superior de Ingenieros en Caminos\, Caminos\, Canales y Puertos\, ETSECCPB\, en Barcelona\, España. Enero 1996. Barcelona\, Cataluña\, España. \nMaestro en Ingeniería con Especialidad en Estructuras \nInstituto Tecnológico y de Estudios Superiores de Monterrey\, ITESM\, Monterrey\, México. Mayo de 1990. Monterrey\, Nuevo León\, México \nIngeniero en Caminos\, Canales y Puertos \nTítulo profesional español por Real Decreto 86/1987\, obtenido por homologación del título de Ingeniero Civil otorgado por el ITESM\, Monterrey. España. Madrid\, España. \nCARRERA ACADÉMICA Y PROFESOR CONSULTOR \nDurante los 41 años del Plan de Vida y Carrera\, el Dr. Fonseca Rodríguez dedicó 36 años a la docencia y actividades de investigación\, desarrollo y consultoría\, especialmente en el Instituto Tecnológico de Monterrey\, Campus Monterrey\, como Profesor de Planta del Departamento de Ingeniería Civil. \n  \n2020-Act         Profesor Emérito\, del Instituto Tecnológico de Monterrey\, Campus Monterrey\, de Agosto 2020 a la fecha. \n2018-2020     Líder Nacional del Área Temática de Construcción\, de la Escuela de Ingeniería y Ciencias del Instituto Tecnológico de Monterrey\, Campus Monterrey. Agosto 2018 – Agosto 2020. \n2012-2018    Director del Centro de Diseño y Construcción\, del Instituto Tecnológico de Monterrey\, Campus Monterrey. Abril 2012 – Agosto 2018 \n2002-2003      Director de la Maestría de Ingeniería y Administración de la Construcción\, del Instituto Tecnológico de Monterrey\, Campus Monterrey. Octubre 2002 – Diciembre 2003. \n2002-2009     Director de la Carrera de Ingeniero Civil\, del Instituto Tecnológico de Monterrey\, Campus Monterrey. Agosto 2002 – Junio 2009. \n1987-1999   El Dr. Fonseca Rodríguez fue nombrado por el Rector del Campus Monterrey\, Profesor Titular de la División de Ingeniería y Arquitectura del Instituto Tecnológico y de Estudios Superiores de Monterrey\, ITESM\, Campus Monterrey\, a partir de Junio de 1999. Fue Profesor Asistente de Abril de 1991 a Mayo de 1999 y Profesor Instructor de Agosto de 1989 a Marzo de 1991. Colabora como Profesor del Departamento de Ingeniería Civil de tiempo completo desde Agosto1988. Inició en el ITESM como Profesor de Cátedra de Agosto de 1987 a Julio de 1989. \n  \n \n  \n  \n  \n¡Construyendo un nuevo camino! \n  \n 
URL:https://iag.org.gt/event/diseno-de-mezclas-asfalticas/
LOCATION:Ciudad capital\, Guatemala\, Guatemala
ATTACH;FMTTYPE=image/png:https://iag.org.gt/wp-content/uploads/2023/08/CURSO-DR.-FONSECA-PAG-WEB-1-2.png
ORGANIZER;CN="IAG":MAILTO:capacitacion@iag.org.gt
END:VEVENT
BEGIN:VEVENT
DTSTART;TZID=America/Guatemala:20230919T100000
DTEND;TZID=America/Guatemala:20230919T120000
DTSTAMP:20260425T215123
CREATED:20230920T005214Z
LAST-MODIFIED:20230920T005214Z
UID:8134-1695117600-1695124800@iag.org.gt
SUMMARY:IV EDICIÓN DEL SEMINARIO ATEB  “Presente y futuro de las técnicas con emulsión”.
DESCRIPTION:La ASOCIACIÓN TÉCNICA DE EMULSIONES BITUMINOSAS -ATEB- por sus siglas llevará a cabo el próximo 19 de septiembre su IV Edición del Seminario ATEB con el tema: “Presente y futuro de las técnicas con emulsión”. \nSe realizará por medio de la web a través de la plataforma Zoom\, sin costo alguno\,  donde se estarán presentando distintas comunicaciones relacionadas con el empleo de técnicas con emulsión para la construcción y conservación de firmes\, en un marco de sostenibilidad y eficiencia \n“Durante el seminario\, además de la exposición de temas de actualidad tanto normativos como característicos de las técnicas con emulsión\, se presentarán casos de éxito en su empleo. Las exposiciones se complementarán con una mesa redonda en la que contaremos con expertos del sector de la carretera (con presencia de Administración\, docencia y sector privado)\, quienes debatirán dando su visión acerca de los temas tratados. Igualmente\, junto al resto de ponentes responderán a las cuestiones que puedan surgir durante el desarrollo del seminario\, así como a las preguntas que puedan plantear los participantes.” aseugra ATEB en su página oficial. \nSe comparte el programa del evento: \n\n10:00 – 10:05. Presentación\, introducción y agradecimientos (Nuria Uguet\, Directora del Comité Técnico de ATEB).\n10:05 – 10:20. “Las técnicas con emulsión en el marco del Programa de Compra Pública de Innovación en carreteras del MITMA.” (Valverde Jiménez Ajo\, DGC).\n10:20 – 10:35. “Consideraciones sobre la actualización del marco normativo para la reutilización in situ con emulsión de capas de firmes (OC 2/2023).” (Mar Subarroca Gella\, Vicepresidenta de ATEB).\n10:35 – 10:50. “Revisión de la monografía sobre microaglomerados en frío de ATEB.” (María de Mar Colás Victoria\, Presidenta de ATEB).\n10:50 – 10:55. Presentación de la sección de casos de éxito (Ricardo Bardasano González\, Gerente de ATEB).\n10:55 – 11:05. “Mejora del firme de la GI-612\, del PK 0+000 al 8+026. Tramo: El Port de la Selva – Llançà. Mezcla ecoinnovadora: MICROF 6 R60 C60BP4 MIC BIO.” (Núria Querol Solá\, Sorigué).\n11:05 – 11:15. “Utilización del árido siderúrgico en microaglomerados en frío. Caso práctico.” (Marisol Barral Vázquez\, Grupo Campezo).\n11:15 – 11:25. “Aplicación de microaglomerados en frío con propiedades antihielo para mejora de la vialidad invernal.” (Cristina Delgado García\, Ecoasfalt).\n11:25 – 12:00. Mesa redonda/coloquio en directo: “Presente y futuro de las técnicas con emulsión.” (coordinada por Ricardo Bardasano González\, Gerente de ATEB). Participan: Valverde Jiménez Ajo (DGC)\, Alberto Bardesi Orúe-Echevarría (Consultor)\, Miguel Ángel del Val Melús (Profesor Doctor\, Catedrático de Universidad)\, Pablo García Chaves (Jefe Coex y Director Técnico\, Concesionaria Bervia)\, Daniel Romay Díaz (Infraestruturas e Vías Provinciais\, Deputación de Pontevedra).\n\nPara mayor información del evento visita: \nhttps://www.ateb.es/index.php/noticias/item/557-iv-edicion-del-seminarioateb \n  \nPara inscripciones visita: \nhttps://us06web.zoom.us/webinar/register/WN_9BbvAezkSoy0qhx4DwlAPQ#/registration \n  \n  \n 
URL:https://iag.org.gt/event/iv-edicion-del-seminario-ateb-presente-y-futuro-de-las-tecnicas-con-emulsion/
ATTACH;FMTTYPE=image/jpeg:https://iag.org.gt/wp-content/uploads/2023/09/7c8a032eb1fd580d4ed0e1065f1e3688_XL.jpg
END:VEVENT
END:VCALENDAR