BEGIN:VCALENDAR
VERSION:2.0
PRODID:-//Instituto del Asfalto de Guatemala - ECPv6.15.11//NONSGML v1.0//EN
CALSCALE:GREGORIAN
METHOD:PUBLISH
X-ORIGINAL-URL:https://iag.org.gt
X-WR-CALDESC:Eventos para Instituto del Asfalto de Guatemala
REFRESH-INTERVAL;VALUE=DURATION:PT1H
X-Robots-Tag:noindex
X-PUBLISHED-TTL:PT1H
BEGIN:VTIMEZONE
TZID:America/Guatemala
BEGIN:STANDARD
TZOFFSETFROM:-0600
TZOFFSETTO:-0600
TZNAME:CST
DTSTART:20220101T000000
END:STANDARD
END:VTIMEZONE
BEGIN:VEVENT
DTSTART;TZID=America/Guatemala:20230831T140000
DTEND;TZID=America/Guatemala:20230831T183000
DTSTAMP:20260425T215121
CREATED:20230817T220351Z
LAST-MODIFIED:20230818T230337Z
UID:8046-1693490400-1693506600@iag.org.gt
SUMMARY:CONFERENCIA MAGISTRAL - DR. MARIO JAIR. Evaluación de la durabilidad estructural de los pavimentos & Soluciones de pavimentos para vías de bajo tráfico.
DESCRIPTION:Evaluación de la durabilidad estructural de los pavimentos.\nSoluciones de pavimentos para vías de bajo tráfico.\nAGENDA: \n2:00 pm – 4:00pm – Evaluación de la durabilidad estructural de los pavimentos. \n4:00pm – 4:30:pm – Coffee Break (Networking) \n4:30pm – 6:30pm – Soluciones de pavimentos para vías de bajo tráfico. \n  \nGENERALIDADES: \nDía: jueves 31 de agosto de 2023. \nHora: 2:00 pm – 6:30 pm \nModalidad: Presencial. \nLugar: Cámara Guatemalteca de la Construcción. \nInscripción: \nhttps://forms.gle/rYUb87NV8V2gEWgD6 \n  \nEXPOSITOR: \nMario Roberto Jair. \n\nEl Ing. Mario Roberto Jair ha trabajado desde hace 30 años en la industria de la producción de asfalto y de la construcción de carreteras\, inicialmente como coordinador y jefe de proyectos de obras viales y desde el año 2000 y hasta septiembre de 2018\, como Bitumen Technical Manager para las Américas de la empresa Shell\, formando parte del Technology Leadership Team y siendo el experto global en emulsiones asfálticas del Grupo.\nActualmente brinda servicios de consultoría independiente para empresas del sector vial en Argentina y LA.\nDurante su carrera ha realizado más de 100 presentaciones públicas en conferencias y congresos del sector\, Universidades y asociaciones de la Industria en Argentina\, Latinoamérica\, USA y Europa\, publicando más de 80 trabajos\, artículos y folletos técnicos\, incluyendo la autoría del capítulo 9 “Bitumen Emulsions” y la coautoría del capítulo 21 “Surface Treatments” de la 6th edición del reconocido Shell Bitumen Handbook.\nMario es presidente de la Comisión Permanente del Asfalto de Argentina\, miembro de la Asociación Argentina de Carreteras coordinando su Comisión de Pavimentos y es el representante de ésta\, en el Comité de Pavimentos de la AIPCR.\nMario es casado\, tiene un hijo (y una nieta!!!) y vive en Buenos Aires\, Argentina.\n\n  \n \n  \n  \n  \n 
URL:https://iag.org.gt/event/conferencia-magistral-dr-mario-jair/
LOCATION:Ciudad capital\, Guatemala\, Guatemala
ATTACH;FMTTYPE=image/png:https://iag.org.gt/wp-content/uploads/2023/08/PAGINA-DR.-JAIR-.png
ORGANIZER;CN="IAG":MAILTO:capacitacion@iag.org.gt
END:VEVENT
END:VCALENDAR